Workbook

Sheet 入力
A1: 流山市 法人市民税 入力シート
A3: 項目 | B3: 入力値 | C3: 備考 | E3: 入力例
A4: 所在地 | C4: 所在地をご記入ください | E4: 流山市平和台１－１－１
A5: 法人名 | C5: 法人名をご記入ください | E5: 市民税課商事 株式会社
A6: 法人番号 | C6: 13桁の法人番号をご入力ください | E6: 1234567890123
A7: 年度 | C7: 入力例：令和８年度→８ | E7: 8
A8: 管理番号 | C8: 本市から送付している「申告及び納付についてのお知らせ」の右上に記載されている０から始まる７桁の数字をご入力ください。不明の場合は、空欄でも納付可能です。 | E8: 99999
A9: 事業年度（開始） | C9: 入力例：令和８年４月１日→2026/4/1 | E9: 46113
A10: 事業年度（終了） | C10: 入力例：令和９年３月３１日→2027/3/31 | E10: 46477
A11: 申告区分 | C11: リストから選択ください | E11: 確定
A12: 法人税割額(01) | C12: 金額のみ（円は不要） 12桁以上の入力はできません。空白のまま印刷の上、手書きで記載をお願いいたします。 | E12: 100000
A13: 均等割額(02) | E13: 50000
A14: 延滞金(03)
A15: 合計額(04) | B15: =B12+B13+B14 -> 0 | C15: 自動計算 | E15: =E12+E13+E14 -> 150000
A16: 納期限 | C16: 入力例：令和９年５月３１日→2027/5/31 | E16: 46538

Sheet 納付書印刷
A3: この納付書は、３枚１組となっていますので、切り離さずに提出してください。
A5: ↓
B8: 市町村コード | AA8: 市町村コード | AZ8: 市町村コード
B9: 122203 | AA9: 122203 | AZ9: 122203
B10: 千葉県 流山市 | AA10: 千葉県 流山市 | AZ10: 千葉県 流山市
M11: 法人市町村民税領収済通知書 | AL11: 法人市町村民税納付書（原符） | BK11: 法人市町村民税領収証書
B13: 口座番号 | O13: 加入者 | AA13: 口座番号 | AN13: 加入者 | AZ13: 口座番号 | BM13: 加入者
B14: ００１８０－１－９６２０６１ | O14: 流山市会計管理者 | AA14: ００１８０－１－９６２０６１ | AN14: 流山市会計管理者 | AZ14: ００１８０－１－９６２０６１ | BM14: 流山市会計管理者
B15: 所在地及び法人名（法人課税信託に係る受託法人の各事業年度の法人税額を課税標準とする市町村民税の法人税割については、法人課税信託の名称を併記） | AA15: 所在地及び法人名（法人課税信託に係る受託法人の各事業年度の法人税額を課税標準とする市町村民税の法人税割については、法人課税信託の名称を併記） | AZ15: 所在地及び法人名（法人課税信託に係る受託法人の各事業年度の法人税額を課税標準とする市町村民税の法人税割については、法人課税信託の名称を併記）
B17: =IF(入力!$B$4="","",入力!B4) | AA17: =IF(入力!$B$4="","",入力!B4) | AZ17: =IF(入力!$B$4="","",入力!B4)
B21: =IF(入力!$B$5="","",入力!B5) | AA21: =IF(入力!$B$5="","",入力!B5) | AZ21: =IF(入力!$B$5="","",入力!B5)
X25: このまま切らずにお持ちください | AW25: このまま切らずにお持ちください
B26: 法人番号 | J26: =IF(入力!$B$6="","",MID(TEXT(入力!$B$6,"0000000000000"),COLUMN(A1),1)) | K26: =IF(入力!$B$6="","",MID(TEXT(入力!$B$6,"0000000000000"),COLUMN(B1),1)) | L26: =IF(入力!$B$6="","",MID(TEXT(入力!$B$6,"0000000000000"),COLUMN(C1),1)) | M26: =IF(入力!$B$6="","",MID(TEXT(入力!$B$6,"0000000000000"),COLUMN(D1),1)) | N26: =IF(入力!$B$6="","",MID(TEXT(入力!$B$6,"0000000000000"),COLUMN(E1),1)) | O26: =IF(入力!$B$6="","",MID(TEXT(入力!$B$6,"0000000000000"),COLUMN(F1),1)) | P26: =IF(入力!$B$6="","",MID(TEXT(入力!$B$6,"0000000000000"),COLUMN(G1),1)) | Q26: =IF(入力!$B$6="","",MID(TEXT(入力!$B$6,"0000000000000"),COLUMN(H1),1)) | ... V26: =IF(入力!$B$6="","",MID(TEXT(入力!$B$6,"0000000000000"),COLUMN(M1),1)) | AA26: 法人番号 | AI26: =IF(入力!$B$6="","",MID(TEXT(入力!$B$6,"0000000000000"),COLUMN(A1),1)) | AJ26: =IF(入力!$B$6="","",MID(TEXT(入力!$B$6,"0000000000000"),COLUMN(B1),1)) | AK26: =IF(入力!$B$6="","",MID(TEXT(入力!$B$6,"0000000000000"),COLUMN(C1),1)) | AL26: =IF(入力!$B$6="","",MID(TEXT(入力!$B$6,"0000000000000"),COLUMN(D1),1)) | AM26: =IF(入力!$B$6="","",MID(TEXT(入力!$B$6,"0000000000000"),COLUMN(E1),1)) | AN26: =IF(入力!$B$6="","",MID(TEXT(入力!$B$6,"0000000000000"),COLUMN(F1),1)) | AO26: =IF(入力!$B$6="","",MID(TEXT(入力!$B$6,"0000000000000"),COLUMN(G1),1)) | AP26: =IF(入力!$B$6="","",MID(TEXT(入力!$B$6,"0000000000000"),COLUMN(H1),1)) | ... AU26: =IF(入力!$B$6="","",MID(TEXT(入力!$B$6,"0000000000000"),COLUMN(M1),1)) | AZ26: 法人番号 | BH26: =IF(入力!$B$6="","",MID(TEXT(入力!$B$6,"0000000000000"),COLUMN(A1),1)) | BI26: =IF(入力!$B$6="","",MID(TEXT(入力!$B$6,"0000000000000"),COLUMN(B1),1)) | BJ26: =IF(入力!$B$6="","",MID(TEXT(入力!$B$6,"0000000000000"),COLUMN(C1),1)) | BK26: =IF(入力!$B$6="","",MID(TEXT(入力!$B$6,"0000000000000"),COLUMN(D1),1)) | BL26: =IF(入力!$B$6="","",MID(TEXT(入力!$B$6,"0000000000000"),COLUMN(E1),1)) | BM26: =IF(入力!$B$6="","",MID(TEXT(入力!$B$6,"0000000000000"),COLUMN(F1),1)) | BN26: =IF(入力!$B$6="","",MID(TEXT(入力!$B$6,"0000000000000"),COLUMN(G1),1)) | BO26: =IF(入力!$B$6="","",MID(TEXT(入力!$B$6,"0000000000000"),COLUMN(H1),1)) | ... BT26: =IF(入力!$B$6="","",MID(TEXT(入力!$B$6,"0000000000000"),COLUMN(M1),1))
B27: 年度 | G27: ※ 処 理 事 項 | S27: 管 理 番 号 | AA27: 年度 | AF27: ※ 処 理 事 項 | AR27: 管 理 番 号 | AZ27: 年度 | BE27: ※ 処 理 事 項 | BQ27: 管 理 番 号
B28: ="令和 "&入力!B7&"年度" -> 令和 年度 | S28: =IF(入力!B8="","",入力!B8) | AA28: ="令和 "&入力!B7&"年度" -> 令和 年度 | AR28: =IF(入力!B8="","",入力!B8) | AZ28: ="令和 "&入力!B7&"年度" -> 令和 年度 | BQ28: =IF(入力!B8="","",入力!B8)
B29: 事業年度 | O29: 申告区分 | AA29: 事業年度 | AN29: 申告区分 | AZ29: 事業年度 | BM29: 申告区分
B30: ="令和 "&IF(入力!$B$9="","",YEAR(入力!$B$9)-2018)&"年 "&IF(入力!$B$9="","",MONTH(入力!$B$9))&"月 "&IF(入力!$B$9="","",DAY(入力!$B$9))&"日から令和 "&IF(入力!$B$10="","",YEAR(入力!$B$10)-2018)&"年 "&IF(入力!$B$10="","",MONTH(入力!$B$10))&"月 "&IF(入力!$B$10="","",DAY(入力!$B$10))&"日まで" -> 令和 年 月 日から令和 年 月 日まで | O30: =IF(入力!$B$11="","",入力!$B$11) | U30: （） | AA30: ="令和 "&IF(入力!$B$9="","",YEAR(入力!$B$9)-2018)&"年 "&IF(入力!$B$9="","",MONTH(入力!$B$9))&"月 "&IF(入力!$B$9="","",DAY(入力!$B$9))&"日から令和 "&IF(入力!$B$10="","",YEAR(入力!$B$10)-2018)&"年 "&IF(入力!$B$10="","",MONTH(入力!$B$10))&"月 "&IF(入力!$B$10="","",DAY(入力!$B$10))&"日まで" -> 令和 年 月 日から令和 年 月 日まで | AN30: =IF(入力!$B$11="","",入力!$B$11) | AT30: （） | AZ30: ="令和 "&IF(入力!$B$9="","",YEAR(入力!$B$9)-2018)&"年 "&IF(入力!$B$9="","",MONTH(入力!$B$9))&"月 "&IF(入力!$B$9="","",DAY(入力!$B$9))&"日から令和 "&IF(入力!$B$10="","",YEAR(入力!$B$10)-2018)&"年 "&IF(入力!$B$10="","",MONTH(入力!$B$10))&"月 "&IF(入力!$B$10="","",DAY(入力!$B$10))&"日まで" -> 令和 年 月 日から令和 年 月 日まで | BM30: =IF(入力!$B$11="","",入力!$B$11) | BS30: （）
B32: 法人税割額 | J32: 1 | L32: 百 | M32: 十 | N32: 億 | O32: 千 | P32: 百 | Q32: 十 | R32: 万 | S32: 千 | T32: 百 | U32: 十 | V32: 円 | AA32: 法人税割額 | AI32: 1 | AK32: 百 | AL32: 十 | AM32: 億 | AN32: 千 | AO32: 百 | AP32: 十 | AQ32: 万 | AR32: 千 | AS32: 百 | AT32: 十 | AU32: 円 | AZ32: 法人税割額 | BH32: 1 | BJ32: 百 | BK32: 十 | BL32: 億 | BM32: 千 | BN32: 百 | BO32: 十 | BP32: 万 | BQ32: 千 | BR32: 百 | BS32: 十 | BT32: 円
L33: =IFERROR(IF(OR(入力!$B$12="",入力!$B$12=0),"",IF(VALUE(MID(TEXT(入力!$B$12,"00000000000"),1,1))=0,IF(VALUE(LEFT(TEXT(入力!$B$12,"00000000000"),1))=0,"",MID(TEXT(入力!$B$12,"00000000000"),1,1)),MID(TEXT(入力!$B$12,"00000000000"),1,1))),"") | M33: =IFERROR(IF(OR(入力!$B$12="",入力!$B$12=0),"",IF(VALUE(MID(TEXT(入力!$B$12,"00000000000"),2,1))=0,IF(VALUE(LEFT(TEXT(入力!$B$12,"00000000000"),2))=0,"",MID(TEXT(入力!$B$12,"00000000000"),2,1)),MID(TEXT(入力!$B$12,"00000000000"),2,1))),"") | N33: =IFERROR(IF(OR(入力!$B$12="",入力!$B$12=0),"",IF(VALUE(MID(TEXT(入力!$B$12,"00000000000"),3,1))=0,IF(VALUE(LEFT(TEXT(入力!$B$12,"00000000000"),3))=0,"",MID(TEXT(入力!$B$12,"00000000000"),3,1)),MID(TEXT(入力!$B$12,"00000000000"),3,1))),"") | O33: =IFERROR(IF(OR(入力!$B$12="",入力!$B$12=0),"",IF(VALUE(MID(TEXT(入力!$B$12,"00000000000"),4,1))=0,IF(VALUE(LEFT(TEXT(入力!$B$12,"00000000000"),4))=0,"",MID(TEXT(入力!$B$12,"00000000000"),4,1)),MID(TEXT(入力!$B$12,"00000000000"),4,1))),"") | P33: =IFERROR(IF(OR(入力!$B$12="",入力!$B$12=0),"",IF(VALUE(MID(TEXT(入力!$B$12,"00000000000"),5,1))=0,IF(VALUE(LEFT(TEXT(入力!$B$12,"00000000000"),5))=0,"",MID(TEXT(入力!$B$12,"00000000000"),5,1)),MID(TEXT(入力!$B$12,"00000000000"),5,1))),"") | Q33: =IFERROR(IF(OR(入力!$B$12="",入力!$B$12=0),"",IF(VALUE(MID(TEXT(入力!$B$12,"00000000000"),6,1))=0,IF(VALUE(LEFT(TEXT(入力!$B$12,"00000000000"),6))=0,"",MID(TEXT(入力!$B$12,"00000000000"),6,1)),MID(TEXT(入力!$B$12,"00000000000"),6,1))),"") | R33: =IFERROR(IF(OR(入力!$B$12="",入力!$B$12=0),"",IF(VALUE(MID(TEXT(入力!$B$12,"00000000000"),7,1))=0,IF(VALUE(LEFT(TEXT(入力!$B$12,"00000000000"),7))=0,"",MID(TEXT(入力!$B$12,"00000000000"),7,1)),MID(TEXT(入力!$B$12,"00000000000"),7,1))),"") | S33: =IFERROR(IF(OR(入力!$B$12="",入力!$B$12=0),"",IF(VALUE(MID(TEXT(入力!$B$12,"00000000000"),8,1))=0,IF(VALUE(LEFT(TEXT(入力!$B$12,"00000000000"),8))=0,"",MID(TEXT(入力!$B$12,"00000000000"),8,1)),MID(TEXT(入力!$B$12,"00000000000"),8,1))),"") | T33: =IFERROR(IF(OR(入力!$B$12="",入力!$B$12=0),"",IF(VALUE(MID(TEXT(入力!$B$12,"00000000000"),9,1))=0,IF(VALUE(LEFT(TEXT(入力!$B$12,"00000000000"),9))=0,"",MID(TEXT(入力!$B$12,"00000000000"),9,1)),MID(TEXT(入力!$B$12,"00000000000"),9,1))),"") | U33: =IFERROR(IF(OR(入力!$B$12="",入力!$B$12=0),"",IF(VALUE(MID(TEXT(入力!$B$12,"00000000000"),10,1))=0,IF(VALUE(LEFT(TEXT(入力!$B$12,"00000000000"),10))=0,"",MID(TEXT(入力!$B$12,"00000000000"),10,1)),MID(TEXT(入力!$B$12,"00000000000"),10,1))),"") | V33: =IFERROR(IF(OR(入力!$B$12="",入力!$B$12=0),"",IF(VALUE(MID(TEXT(入力!$B$12,"00000000000"),11,1))=0,IF(VALUE(LEFT(TEXT(入力!$B$12,"00000000000"),11))=0,"",MID(TEXT(入力!$B$12,"00000000000"),11,1)),MID(TEXT(入力!$B$12,"00000000000"),11,1))),"") | AK33: =IFERROR(IF(OR(入力!$B$12="",入力!$B$12=0),"",IF(VALUE(MID(TEXT(入力!$B$12,"00000000000"),1,1))=0,IF(VALUE(LEFT(TEXT(入力!$B$12,"00000000000"),1))=0,"",MID(TEXT(入力!$B$12,"00000000000"),1,1)),MID(TEXT(入力!$B$12,"00000000000"),1,1))),"") | AL33: =IFERROR(IF(OR(入力!$B$12="",入力!$B$12=0),"",IF(VALUE(MID(TEXT(入力!$B$12,"00000000000"),2,1))=0,IF(VALUE(LEFT(TEXT(入力!$B$12,"00000000000"),2))=0,"",MID(TEXT(入力!$B$12,"00000000000"),2,1)),MID(TEXT(入力!$B$12,"00000000000"),2,1))),"") | AM33: =IFERROR(IF(OR(入力!$B$12="",入力!$B$12=0),"",IF(VALUE(MID(TEXT(入力!$B$12,"00000000000"),3,1))=0,IF(VALUE(LEFT(TEXT(入力!$B$12,"00000000000"),3))=0,"",MID(TEXT(入力!$B$12,"00000000000"),3,1)),MID(TEXT(入力!$B$12,"00000000000"),3,1))),"") | AN33: =IFERROR(IF(OR(入力!$B$12="",入力!$B$12=0),"",IF(VALUE(MID(TEXT(入力!$B$12,"00000000000"),4,1))=0,IF(VALUE(LEFT(TEXT(入力!$B$12,"00000000000"),4))=0,"",MID(TEXT(入力!$B$12,"00000000000"),4,1)),MID(TEXT(入力!$B$12,"00000000000"),4,1))),"") | AO33: =IFERROR(IF(OR(入力!$B$12="",入力!$B$12=0),"",IF(VALUE(MID(TEXT(入力!$B$12,"00000000000"),5,1))=0,IF(VALUE(LEFT(TEXT(入力!$B$12,"00000000000"),5))=0,"",MID(TEXT(入力!$B$12,"00000000000"),5,1)),MID(TEXT(入力!$B$12,"00000000000"),5,1))),"") | AP33: =IFERROR(IF(OR(入力!$B$12="",入力!$B$12=0),"",IF(VALUE(MID(TEXT(入力!$B$12,"00000000000"),6,1))=0,IF(VALUE(LEFT(TEXT(入力!$B$12,"00000000000"),6))=0,"",MID(TEXT(入力!$B$12,"00000000000"),6,1)),MID(TEXT(入力!$B$12,"00000000000"),6,1))),"") | AQ33: =IFERROR(IF(OR(入力!$B$12="",入力!$B$12=0),"",IF(VALUE(MID(TEXT(入力!$B$12,"00000000000"),7,1))=0,IF(VALUE(LEFT(TEXT(入力!$B$12,"00000000000"),7))=0,"",MID(TEXT(入力!$B$12,"00000000000"),7,1)),MID(TEXT(入力!$B$12,"00000000000"),7,1))),"") | AR33: =IFERROR(IF(OR(入力!$B$12="",入力!$B$12=0),"",IF(VALUE(MID(TEXT(入力!$B$12,"00000000000"),8,1))=0,IF(VALUE(LEFT(TEXT(入力!$B$12,"00000000000"),8))=0,"",MID(TEXT(入力!$B$12,"00000000000"),8,1)),MID(TEXT(入力!$B$12,"00000000000"),8,1))),"") | AS33: =IFERROR(IF(OR(入力!$B$12="",入力!$B$12=0),"",IF(VALUE(MID(TEXT(入力!$B$12,"00000000000"),9,1))=0,IF(VALUE(LEFT(TEXT(入力!$B$12,"00000000000"),9))=0,"",MID(TEXT(入力!$B$12,"00000000000"),9,1)),MID(TEXT(入力!$B$12,"00000000000"),9,1))),"") | AT33: =IFERROR(IF(OR(入力!$B$12="",入力!$B$12=0),"",IF(VALUE(MID(TEXT(入力!$B$12,"00000000000"),10,1))=0,IF(VALUE(LEFT(TEXT(入力!$B$12,"00000000000"),10))=0,"",MID(TEXT(入力!$B$12,"00000000000"),10,1)),MID(TEXT(入力!$B$12,"00000000000"),10,1))),"") | AU33: =IFERROR(IF(OR(入力!$B$12="",入力!$B$12=0),"",IF(VALUE(MID(TEXT(入力!$B$12,"00000000000"),11,1))=0,IF(VALUE(LEFT(TEXT(入力!$B$12,"00000000000"),11))=0,"",MID(TEXT(入力!$B$12,"00000000000"),11,1)),MID(TEXT(入力!$B$12,"00000000000"),11,1))),"") | BJ33: =IFERROR(IF(OR(入力!$B$12="",入力!$B$12=0),"",IF(VALUE(MID(TEXT(入力!$B$12,"00000000000"),1,1))=0,IF(VALUE(LEFT(TEXT(入力!$B$12,"00000000000"),1))=0,"",MID(TEXT(入力!$B$12,"00000000000"),1,1)),MID(TEXT(入力!$B$12,"00000000000"),1,1))),"") | BK33: =IFERROR(IF(OR(入力!$B$12="",入力!$B$12=0),"",IF(VALUE(MID(TEXT(入力!$B$12,"00000000000"),2,1))=0,IF(VALUE(LEFT(TEXT(入力!$B$12,"00000000000"),2))=0,"",MID(TEXT(入力!$B$12,"00000000000"),2,1)),MID(TEXT(入力!$B$12,"00000000000"),2,1))),"") | BL33: =IFERROR(IF(OR(入力!$B$12="",入力!$B$12=0),"",IF(VALUE(MID(TEXT(入力!$B$12,"00000000000"),3,1))=0,IF(VALUE(LEFT(TEXT(入力!$B$12,"00000000000"),3))=0,"",MID(TEXT(入力!$B$12,"00000000000"),3,1)),MID(TEXT(入力!$B$12,"00000000000"),3,1))),"") | BM33: =IFERROR(IF(OR(入力!$B$12="",入力!$B$12=0),"",IF(VALUE(MID(TEXT(入力!$B$12,"00000000000"),4,1))=0,IF(VALUE(LEFT(TEXT(入力!$B$12,"00000000000"),4))=0,"",MID(TEXT(入力!$B$12,"00000000000"),4,1)),MID(TEXT(入力!$B$12,"00000000000"),4,1))),"") | BN33: =IFERROR(IF(OR(入力!$B$12="",入力!$B$12=0),"",IF(VALUE(MID(TEXT(入力!$B$12,"00000000000"),5,1))=0,IF(VALUE(LEFT(TEXT(入力!$B$12,"00000000000"),5))=0,"",MID(TEXT(入力!$B$12,"00000000000"),5,1)),MID(TEXT(入力!$B$12,"00000000000"),5,1))),"") | BO33: =IFERROR(IF(OR(入力!$B$12="",入力!$B$12=0),"",IF(VALUE(MID(TEXT(入力!$B$12,"00000000000"),6,1))=0,IF(VALUE(LEFT(TEXT(入力!$B$12,"00000000000"),6))=0,"",MID(TEXT(入力!$B$12,"00000000000"),6,1)),MID(TEXT(入力!$B$12,"00000000000"),6,1))),"") | BP33: =IFERROR(IF(OR(入力!$B$12="",入力!$B$12=0),"",IF(VALUE(MID(TEXT(入力!$B$12,"00000000000"),7,1))=0,IF(VALUE(LEFT(TEXT(入力!$B$12,"00000000000"),7))=0,"",MID(TEXT(入力!$B$12,"00000000000"),7,1)),MID(TEXT(入力!$B$12,"00000000000"),7,1))),"") | BQ33: =IFERROR(IF(OR(入力!$B$12="",入力!$B$12=0),"",IF(VALUE(MID(TEXT(入力!$B$12,"00000000000"),8,1))=0,IF(VALUE(LEFT(TEXT(入力!$B$12,"00000000000"),8))=0,"",MID(TEXT(入力!$B$12,"00000000000"),8,1)),MID(TEXT(入力!$B$12,"00000000000"),8,1))),"") | BR33: =IFERROR(IF(OR(入力!$B$12="",入力!$B$12=0),"",IF(VALUE(MID(TEXT(入力!$B$12,"00000000000"),9,1))=0,IF(VALUE(LEFT(TEXT(入力!$B$12,"00000000000"),9))=0,"",MID(TEXT(入力!$B$12,"00000000000"),9,1)),MID(TEXT(入力!$B$12,"00000000000"),9,1))),"") | BS33: =IFERROR(IF(OR(入力!$B$12="",入力!$B$12=0),"",IF(VALUE(MID(TEXT(入力!$B$12,"00000000000"),10,1))=0,IF(VALUE(LEFT(TEXT(入力!$B$12,"00000000000"),10))=0,"",MID(TEXT(入力!$B$12,"00000000000"),10,1)),MID(TEXT(入力!$B$12,"00000000000"),10,1))),"") | BT33: =IFERROR(IF(OR(入力!$B$12="",入力!$B$12=0),"",IF(VALUE(MID(TEXT(入力!$B$12,"00000000000"),11,1))=0,IF(VALUE(LEFT(TEXT(入力!$B$12,"00000000000"),11))=0,"",MID(TEXT(入力!$B$12,"00000000000"),11,1)),MID(TEXT(入力!$B$12,"00000000000"),11,1))),"")
B35: 均等割額 | J35: 2 | L35: =IFERROR(IF(OR(入力!$B$13="",入力!$B$13=0),"",IF(VALUE(MID(TEXT(入力!$B$13,"00000000000"),1,1))=0,IF(VALUE(LEFT(TEXT(入力!$B$13,"00000000000"),1))=0,"",MID(TEXT(入力!$B$13,"00000000000"),1,1)),MID(TEXT(入力!$B$13,"00000000000"),1,1))),"") | M35: =IFERROR(IF(OR(入力!$B$13="",入力!$B$13=0),"",IF(VALUE(MID(TEXT(入力!$B$13,"00000000000"),2,1))=0,IF(VALUE(LEFT(TEXT(入力!$B$13,"00000000000"),2))=0,"",MID(TEXT(入力!$B$13,"00000000000"),2,1)),MID(TEXT(入力!$B$13,"00000000000"),2,1))),"") | N35: =IFERROR(IF(OR(入力!$B$13="",入力!$B$13=0),"",IF(VALUE(MID(TEXT(入力!$B$13,"00000000000"),3,1))=0,IF(VALUE(LEFT(TEXT(入力!$B$13,"00000000000"),3))=0,"",MID(TEXT(入力!$B$13,"00000000000"),3,1)),MID(TEXT(入力!$B$13,"00000000000"),3,1))),"") | O35: =IFERROR(IF(OR(入力!$B$13="",入力!$B$13=0),"",IF(VALUE(MID(TEXT(入力!$B$13,"00000000000"),4,1))=0,IF(VALUE(LEFT(TEXT(入力!$B$13,"00000000000"),4))=0,"",MID(TEXT(入力!$B$13,"00000000000"),4,1)),MID(TEXT(入力!$B$13,"00000000000"),4,1))),"") | P35: =IFERROR(IF(OR(入力!$B$13="",入力!$B$13=0),"",IF(VALUE(MID(TEXT(入力!$B$13,"00000000000"),5,1))=0,IF(VALUE(LEFT(TEXT(入力!$B$13,"00000000000"),5))=0,"",MID(TEXT(入力!$B$13,"00000000000"),5,1)),MID(TEXT(入力!$B$13,"00000000000"),5,1))),"") | Q35: =IFERROR(IF(OR(入力!$B$13="",入力!$B$13=0),"",IF(VALUE(MID(TEXT(入力!$B$13,"00000000000"),6,1))=0,IF(VALUE(LEFT(TEXT(入力!$B$13,"00000000000"),6))=0,"",MID(TEXT(入力!$B$13,"00000000000"),6,1)),MID(TEXT(入力!$B$13,"00000000000"),6,1))),"") | R35: =IFERROR(IF(OR(入力!$B$13="",入力!$B$13=0),"",IF(VALUE(MID(TEXT(入力!$B$13,"00000000000"),7,1))=0,IF(VALUE(LEFT(TEXT(入力!$B$13,"00000000000"),7))=0,"",MID(TEXT(入力!$B$13,"00000000000"),7,1)),MID(TEXT(入力!$B$13,"00000000000"),7,1))),"") | S35: =IFERROR(IF(OR(入力!$B$13="",入力!$B$13=0),"",IF(VALUE(MID(TEXT(入力!$B$13,"00000000000"),8,1))=0,IF(VALUE(LEFT(TEXT(入力!$B$13,"00000000000"),8))=0,"",MID(TEXT(入力!$B$13,"00000000000"),8,1)),MID(TEXT(入力!$B$13,"00000000000"),8,1))),"") | T35: =IFERROR(IF(OR(入力!$B$13="",入力!$B$13=0),"",IF(VALUE(MID(TEXT(入力!$B$13,"00000000000"),9,1))=0,IF(VALUE(LEFT(TEXT(入力!$B$13,"00000000000"),9))=0,"",MID(TEXT(入力!$B$13,"00000000000"),9,1)),MID(TEXT(入力!$B$13,"00000000000"),9,1))),"") | U35: =IFERROR(IF(OR(入力!$B$13="",入力!$B$13=0),"",IF(VALUE(MID(TEXT(入力!$B$13,"00000000000"),10,1))=0,IF(VALUE(LEFT(TEXT(入力!$B$13,"00000000000"),10))=0,"",MID(TEXT(入力!$B$13,"00000000000"),10,1)),MID(TEXT(入力!$B$13,"00000000000"),10,1))),"") | V35: =IFERROR(IF(OR(入力!$B$13="",入力!$B$13=0),"",IF(VALUE(MID(TEXT(入力!$B$13,"00000000000"),11,1))=0,IF(VALUE(LEFT(TEXT(入力!$B$13,"00000000000"),11))=0,"",MID(TEXT(入力!$B$13,"00000000000"),11,1)),MID(TEXT(入力!$B$13,"00000000000"),11,1))),"") | AA35: 均等割額 | AI35: 2 | AK35: =IFERROR(IF(OR(入力!$B$13="",入力!$B$13=0),"",IF(VALUE(MID(TEXT(入力!$B$13,"00000000000"),1,1))=0,IF(VALUE(LEFT(TEXT(入力!$B$13,"00000000000"),1))=0,"",MID(TEXT(入力!$B$13,"00000000000"),1,1)),MID(TEXT(入力!$B$13,"00000000000"),1,1))),"") | AL35: =IFERROR(IF(OR(入力!$B$13="",入力!$B$13=0),"",IF(VALUE(MID(TEXT(入力!$B$13,"00000000000"),2,1))=0,IF(VALUE(LEFT(TEXT(入力!$B$13,"00000000000"),2))=0,"",MID(TEXT(入力!$B$13,"00000000000"),2,1)),MID(TEXT(入力!$B$13,"00000000000"),2,1))),"") | AM35: =IFERROR(IF(OR(入力!$B$13="",入力!$B$13=0),"",IF(VALUE(MID(TEXT(入力!$B$13,"00000000000"),3,1))=0,IF(VALUE(LEFT(TEXT(入力!$B$13,"00000000000"),3))=0,"",MID(TEXT(入力!$B$13,"00000000000"),3,1)),MID(TEXT(入力!$B$13,"00000000000"),3,1))),"") | AN35: =IFERROR(IF(OR(入力!$B$13="",入力!$B$13=0),"",IF(VALUE(MID(TEXT(入力!$B$13,"00000000000"),4,1))=0,IF(VALUE(LEFT(TEXT(入力!$B$13,"00000000000"),4))=0,"",MID(TEXT(入力!$B$13,"00000000000"),4,1)),MID(TEXT(入力!$B$13,"00000000000"),4,1))),"") | AO35: =IFERROR(IF(OR(入力!$B$13="",入力!$B$13=0),"",IF(VALUE(MID(TEXT(入力!$B$13,"00000000000"),5,1))=0,IF(VALUE(LEFT(TEXT(入力!$B$13,"00000000000"),5))=0,"",MID(TEXT(入力!$B$13,"00000000000"),5,1)),MID(TEXT(入力!$B$13,"00000000000"),5,1))),"") | AP35: =IFERROR(IF(OR(入力!$B$13="",入力!$B$13=0),"",IF(VALUE(MID(TEXT(入力!$B$13,"00000000000"),6,1))=0,IF(VALUE(LEFT(TEXT(入力!$B$13,"00000000000"),6))=0,"",MID(TEXT(入力!$B$13,"00000000000"),6,1)),MID(TEXT(入力!$B$13,"00000000000"),6,1))),"") | AQ35: =IFERROR(IF(OR(入力!$B$13="",入力!$B$13=0),"",IF(VALUE(MID(TEXT(入力!$B$13,"00000000000"),7,1))=0,IF(VALUE(LEFT(TEXT(入力!$B$13,"00000000000"),7))=0,"",MID(TEXT(入力!$B$13,"00000000000"),7,1)),MID(TEXT(入力!$B$13,"00000000000"),7,1))),"") | AR35: =IFERROR(IF(OR(入力!$B$13="",入力!$B$13=0),"",IF(VALUE(MID(TEXT(入力!$B$13,"00000000000"),8,1))=0,IF(VALUE(LEFT(TEXT(入力!$B$13,"00000000000"),8))=0,"",MID(TEXT(入力!$B$13,"00000000000"),8,1)),MID(TEXT(入力!$B$13,"00000000000"),8,1))),"") | AS35: =IFERROR(IF(OR(入力!$B$13="",入力!$B$13=0),"",IF(VALUE(MID(TEXT(入力!$B$13,"00000000000"),9,1))=0,IF(VALUE(LEFT(TEXT(入力!$B$13,"00000000000"),9))=0,"",MID(TEXT(入力!$B$13,"00000000000"),9,1)),MID(TEXT(入力!$B$13,"00000000000"),9,1))),"") | AT35: =IFERROR(IF(OR(入力!$B$13="",入力!$B$13=0),"",IF(VALUE(MID(TEXT(入力!$B$13,"00000000000"),10,1))=0,IF(VALUE(LEFT(TEXT(入力!$B$13,"00000000000"),10))=0,"",MID(TEXT(入力!$B$13,"00000000000"),10,1)),MID(TEXT(入力!$B$13,"00000000000"),10,1))),"") | AU35: =IFERROR(IF(OR(入力!$B$13="",入力!$B$13=0),"",IF(VALUE(MID(TEXT(入力!$B$13,"00000000000"),11,1))=0,IF(VALUE(LEFT(TEXT(入力!$B$13,"00000000000"),11))=0,"",MID(TEXT(入力!$B$13,"00000000000"),11,1)),MID(TEXT(入力!$B$13,"00000000000"),11,1))),"") | AZ35: 均等割額 | BH35: 2 | BJ35: =IFERROR(IF(OR(入力!$B$13="",入力!$B$13=0),"",IF(VALUE(MID(TEXT(入力!$B$13,"00000000000"),1,1))=0,IF(VALUE(LEFT(TEXT(入力!$B$13,"00000000000"),1))=0,"",MID(TEXT(入力!$B$13,"00000000000"),1,1)),MID(TEXT(入力!$B$13,"00000000000"),1,1))),"") | BK35: =IFERROR(IF(OR(入力!$B$13="",入力!$B$13=0),"",IF(VALUE(MID(TEXT(入力!$B$13,"00000000000"),2,1))=0,IF(VALUE(LEFT(TEXT(入力!$B$13,"00000000000"),2))=0,"",MID(TEXT(入力!$B$13,"00000000000"),2,1)),MID(TEXT(入力!$B$13,"00000000000"),2,1))),"") | BL35: =IFERROR(IF(OR(入力!$B$13="",入力!$B$13=0),"",IF(VALUE(MID(TEXT(入力!$B$13,"00000000000"),3,1))=0,IF(VALUE(LEFT(TEXT(入力!$B$13,"00000000000"),3))=0,"",MID(TEXT(入力!$B$13,"00000000000"),3,1)),MID(TEXT(入力!$B$13,"00000000000"),3,1))),"") | BM35: =IFERROR(IF(OR(入力!$B$13="",入力!$B$13=0),"",IF(VALUE(MID(TEXT(入力!$B$13,"00000000000"),4,1))=0,IF(VALUE(LEFT(TEXT(入力!$B$13,"00000000000"),4))=0,"",MID(TEXT(入力!$B$13,"00000000000"),4,1)),MID(TEXT(入力!$B$13,"00000000000"),4,1))),"") | BN35: =IFERROR(IF(OR(入力!$B$13="",入力!$B$13=0),"",IF(VALUE(MID(TEXT(入力!$B$13,"00000000000"),5,1))=0,IF(VALUE(LEFT(TEXT(入力!$B$13,"00000000000"),5))=0,"",MID(TEXT(入力!$B$13,"00000000000"),5,1)),MID(TEXT(入力!$B$13,"00000000000"),5,1))),"") | BO35: =IFERROR(IF(OR(入力!$B$13="",入力!$B$13=0),"",IF(VALUE(MID(TEXT(入力!$B$13,"00000000000"),6,1))=0,IF(VALUE(LEFT(TEXT(入力!$B$13,"00000000000"),6))=0,"",MID(TEXT(入力!$B$13,"00000000000"),6,1)),MID(TEXT(入力!$B$13,"00000000000"),6,1))),"") | BP35: =IFERROR(IF(OR(入力!$B$13="",入力!$B$13=0),"",IF(VALUE(MID(TEXT(入力!$B$13,"00000000000"),7,1))=0,IF(VALUE(LEFT(TEXT(入力!$B$13,"00000000000"),7))=0,"",MID(TEXT(入力!$B$13,"00000000000"),7,1)),MID(TEXT(入力!$B$13,"00000000000"),7,1))),"") | BQ35: =IFERROR(IF(OR(入力!$B$13="",入力!$B$13=0),"",IF(VALUE(MID(TEXT(入力!$B$13,"00000000000"),8,1))=0,IF(VALUE(LEFT(TEXT(入力!$B$13,"00000000000"),8))=0,"",MID(TEXT(入力!$B$13,"00000000000"),8,1)),MID(TEXT(入力!$B$13,"00000000000"),8,1))),"") | BR35: =IFERROR(IF(OR(入力!$B$13="",入力!$B$13=0),"",IF(VALUE(MID(TEXT(入力!$B$13,"00000000000"),9,1))=0,IF(VALUE(LEFT(TEXT(入力!$B$13,"00000000000"),9))=0,"",MID(TEXT(入力!$B$13,"00000000000"),9,1)),MID(TEXT(入力!$B$13,"00000000000"),9,1))),"") | BS35: =IFERROR(IF(OR(入力!$B$13="",入力!$B$13=0),"",IF(VALUE(MID(TEXT(入力!$B$13,"00000000000"),10,1))=0,IF(VALUE(LEFT(TEXT(入力!$B$13,"00000000000"),10))=0,"",MID(TEXT(入力!$B$13,"00000000000"),10,1)),MID(TEXT(入力!$B$13,"00000000000"),10,1))),"") | BT35: =IFERROR(IF(OR(入力!$B$13="",入力!$B$13=0),"",IF(VALUE(MID(TEXT(入力!$B$13,"00000000000"),11,1))=0,IF(VALUE(LEFT(TEXT(入力!$B$13,"00000000000"),11))=0,"",MID(TEXT(入力!$B$13,"00000000000"),11,1)),MID(TEXT(入力!$B$13,"00000000000"),11,1))),"")
B37: 延滞金 | J37: 3 | L37: =IFERROR(IF(OR(入力!$B$14="",入力!$B$14=0),"",IF(VALUE(MID(TEXT(入力!$B$14,"00000000000"),1,1))=0,IF(VALUE(LEFT(TEXT(入力!$B$14,"00000000000"),1))=0,"",MID(TEXT(入力!$B$14,"00000000000"),1,1)),MID(TEXT(入力!$B$14,"00000000000"),1,1))),"") | M37: =IFERROR(IF(OR(入力!$B$14="",入力!$B$14=0),"",IF(VALUE(MID(TEXT(入力!$B$14,"00000000000"),2,1))=0,IF(VALUE(LEFT(TEXT(入力!$B$14,"00000000000"),2))=0,"",MID(TEXT(入力!$B$14,"00000000000"),2,1)),MID(TEXT(入力!$B$14,"00000000000"),2,1))),"") | N37: =IFERROR(IF(OR(入力!$B$14="",入力!$B$14=0),"",IF(VALUE(MID(TEXT(入力!$B$14,"00000000000"),3,1))=0,IF(VALUE(LEFT(TEXT(入力!$B$14,"00000000000"),3))=0,"",MID(TEXT(入力!$B$14,"00000000000"),3,1)),MID(TEXT(入力!$B$14,"00000000000"),3,1))),"") | O37: =IFERROR(IF(OR(入力!$B$14="",入力!$B$14=0),"",IF(VALUE(MID(TEXT(入力!$B$14,"00000000000"),4,1))=0,IF(VALUE(LEFT(TEXT(入力!$B$14,"00000000000"),4))=0,"",MID(TEXT(入力!$B$14,"00000000000"),4,1)),MID(TEXT(入力!$B$14,"00000000000"),4,1))),"") | P37: =IFERROR(IF(OR(入力!$B$14="",入力!$B$14=0),"",IF(VALUE(MID(TEXT(入力!$B$14,"00000000000"),5,1))=0,IF(VALUE(LEFT(TEXT(入力!$B$14,"00000000000"),5))=0,"",MID(TEXT(入力!$B$14,"00000000000"),5,1)),MID(TEXT(入力!$B$14,"00000000000"),5,1))),"") | Q37: =IFERROR(IF(OR(入力!$B$14="",入力!$B$14=0),"",IF(VALUE(MID(TEXT(入力!$B$14,"00000000000"),6,1))=0,IF(VALUE(LEFT(TEXT(入力!$B$14,"00000000000"),6))=0,"",MID(TEXT(入力!$B$14,"00000000000"),6,1)),MID(TEXT(入力!$B$14,"00000000000"),6,1))),"") | R37: =IFERROR(IF(OR(入力!$B$14="",入力!$B$14=0),"",IF(VALUE(MID(TEXT(入力!$B$14,"00000000000"),7,1))=0,IF(VALUE(LEFT(TEXT(入力!$B$14,"00000000000"),7))=0,"",MID(TEXT(入力!$B$14,"00000000000"),7,1)),MID(TEXT(入力!$B$14,"00000000000"),7,1))),"") | S37: =IFERROR(IF(OR(入力!$B$14="",入力!$B$14=0),"",IF(VALUE(MID(TEXT(入力!$B$14,"00000000000"),8,1))=0,IF(VALUE(LEFT(TEXT(入力!$B$14,"00000000000"),8))=0,"",MID(TEXT(入力!$B$14,"00000000000"),8,1)),MID(TEXT(入力!$B$14,"00000000000"),8,1))),"") | T37: =IFERROR(IF(OR(入力!$B$14="",入力!$B$14=0),"",IF(VALUE(MID(TEXT(入力!$B$14,"00000000000"),9,1))=0,IF(VALUE(LEFT(TEXT(入力!$B$14,"00000000000"),9))=0,"",MID(TEXT(入力!$B$14,"00000000000"),9,1)),MID(TEXT(入力!$B$14,"00000000000"),9,1))),"") | U37: =IFERROR(IF(OR(入力!$B$14="",入力!$B$14=0),"",IF(VALUE(MID(TEXT(入力!$B$14,"00000000000"),10,1))=0,IF(VALUE(LEFT(TEXT(入力!$B$14,"00000000000"),10))=0,"",MID(TEXT(入力!$B$14,"00000000000"),10,1)),MID(TEXT(入力!$B$14,"00000000000"),10,1))),"") | V37: =IFERROR(IF(OR(入力!$B$14="",入力!$B$14=0),"",IF(VALUE(MID(TEXT(入力!$B$14,"00000000000"),11,1))=0,IF(VALUE(LEFT(TEXT(入力!$B$14,"00000000000"),11))=0,"",MID(TEXT(入力!$B$14,"00000000000"),11,1)),MID(TEXT(入力!$B$14,"00000000000"),11,1))),"") | AA37: 延滞金 | AI37: 3 | AK37: =IFERROR(IF(OR(入力!$B$14="",入力!$B$14=0),"",IF(VALUE(MID(TEXT(入力!$B$14,"00000000000"),1,1))=0,IF(VALUE(LEFT(TEXT(入力!$B$14,"00000000000"),1))=0,"",MID(TEXT(入力!$B$14,"00000000000"),1,1)),MID(TEXT(入力!$B$14,"00000000000"),1,1))),"") | AL37: =IFERROR(IF(OR(入力!$B$14="",入力!$B$14=0),"",IF(VALUE(MID(TEXT(入力!$B$14,"00000000000"),2,1))=0,IF(VALUE(LEFT(TEXT(入力!$B$14,"00000000000"),2))=0,"",MID(TEXT(入力!$B$14,"00000000000"),2,1)),MID(TEXT(入力!$B$14,"00000000000"),2,1))),"") | AM37: =IFERROR(IF(OR(入力!$B$14="",入力!$B$14=0),"",IF(VALUE(MID(TEXT(入力!$B$14,"00000000000"),3,1))=0,IF(VALUE(LEFT(TEXT(入力!$B$14,"00000000000"),3))=0,"",MID(TEXT(入力!$B$14,"00000000000"),3,1)),MID(TEXT(入力!$B$14,"00000000000"),3,1))),"") | AN37: =IFERROR(IF(OR(入力!$B$14="",入力!$B$14=0),"",IF(VALUE(MID(TEXT(入力!$B$14,"00000000000"),4,1))=0,IF(VALUE(LEFT(TEXT(入力!$B$14,"00000000000"),4))=0,"",MID(TEXT(入力!$B$14,"00000000000"),4,1)),MID(TEXT(入力!$B$14,"00000000000"),4,1))),"") | AO37: =IFERROR(IF(OR(入力!$B$14="",入力!$B$14=0),"",IF(VALUE(MID(TEXT(入力!$B$14,"00000000000"),5,1))=0,IF(VALUE(LEFT(TEXT(入力!$B$14,"00000000000"),5))=0,"",MID(TEXT(入力!$B$14,"00000000000"),5,1)),MID(TEXT(入力!$B$14,"00000000000"),5,1))),"") | AP37: =IFERROR(IF(OR(入力!$B$14="",入力!$B$14=0),"",IF(VALUE(MID(TEXT(入力!$B$14,"00000000000"),6,1))=0,IF(VALUE(LEFT(TEXT(入力!$B$14,"00000000000"),6))=0,"",MID(TEXT(入力!$B$14,"00000000000"),6,1)),MID(TEXT(入力!$B$14,"00000000000"),6,1))),"") | AQ37: =IFERROR(IF(OR(入力!$B$14="",入力!$B$14=0),"",IF(VALUE(MID(TEXT(入力!$B$14,"00000000000"),7,1))=0,IF(VALUE(LEFT(TEXT(入力!$B$14,"00000000000"),7))=0,"",MID(TEXT(入力!$B$14,"00000000000"),7,1)),MID(TEXT(入力!$B$14,"00000000000"),7,1))),"") | AR37: =IFERROR(IF(OR(入力!$B$14="",入力!$B$14=0),"",IF(VALUE(MID(TEXT(入力!$B$14,"00000000000"),8,1))=0,IF(VALUE(LEFT(TEXT(入力!$B$14,"00000000000"),8))=0,"",MID(TEXT(入力!$B$14,"00000000000"),8,1)),MID(TEXT(入力!$B$14,"00000000000"),8,1))),"") | AS37: =IFERROR(IF(OR(入力!$B$14="",入力!$B$14=0),"",IF(VALUE(MID(TEXT(入力!$B$14,"00000000000"),9,1))=0,IF(VALUE(LEFT(TEXT(入力!$B$14,"00000000000"),9))=0,"",MID(TEXT(入力!$B$14,"00000000000"),9,1)),MID(TEXT(入力!$B$14,"00000000000"),9,1))),"") | AT37: =IFERROR(IF(OR(入力!$B$14="",入力!$B$14=0),"",IF(VALUE(MID(TEXT(入力!$B$14,"00000000000"),10,1))=0,IF(VALUE(LEFT(TEXT(入力!$B$14,"00000000000"),10))=0,"",MID(TEXT(入力!$B$14,"00000000000"),10,1)),MID(TEXT(入力!$B$14,"00000000000"),10,1))),"") | AU37: =IFERROR(IF(OR(入力!$B$14="",入力!$B$14=0),"",IF(VALUE(MID(TEXT(入力!$B$14,"00000000000"),11,1))=0,IF(VALUE(LEFT(TEXT(入力!$B$14,"00000000000"),11))=0,"",MID(TEXT(入力!$B$14,"00000000000"),11,1)),MID(TEXT(入力!$B$14,"00000000000"),11,1))),"") | AZ37: 延滞金 | BH37: 3 | BJ37: =IFERROR(IF(OR(入力!$B$14="",入力!$B$14=0),"",IF(VALUE(MID(TEXT(入力!$B$14,"00000000000"),1,1))=0,IF(VALUE(LEFT(TEXT(入力!$B$14,"00000000000"),1))=0,"",MID(TEXT(入力!$B$14,"00000000000"),1,1)),MID(TEXT(入力!$B$14,"00000000000"),1,1))),"") | BK37: =IFERROR(IF(OR(入力!$B$14="",入力!$B$14=0),"",IF(VALUE(MID(TEXT(入力!$B$14,"00000000000"),2,1))=0,IF(VALUE(LEFT(TEXT(入力!$B$14,"00000000000"),2))=0,"",MID(TEXT(入力!$B$14,"00000000000"),2,1)),MID(TEXT(入力!$B$14,"00000000000"),2,1))),"") | BL37: =IFERROR(IF(OR(入力!$B$14="",入力!$B$14=0),"",IF(VALUE(MID(TEXT(入力!$B$14,"00000000000"),3,1))=0,IF(VALUE(LEFT(TEXT(入力!$B$14,"00000000000"),3))=0,"",MID(TEXT(入力!$B$14,"00000000000"),3,1)),MID(TEXT(入力!$B$14,"00000000000"),3,1))),"") | BM37: =IFERROR(IF(OR(入力!$B$14="",入力!$B$14=0),"",IF(VALUE(MID(TEXT(入力!$B$14,"00000000000"),4,1))=0,IF(VALUE(LEFT(TEXT(入力!$B$14,"00000000000"),4))=0,"",MID(TEXT(入力!$B$14,"00000000000"),4,1)),MID(TEXT(入力!$B$14,"00000000000"),4,1))),"") | BN37: =IFERROR(IF(OR(入力!$B$14="",入力!$B$14=0),"",IF(VALUE(MID(TEXT(入力!$B$14,"00000000000"),5,1))=0,IF(VALUE(LEFT(TEXT(入力!$B$14,"00000000000"),5))=0,"",MID(TEXT(入力!$B$14,"00000000000"),5,1)),MID(TEXT(入力!$B$14,"00000000000"),5,1))),"") | BO37: =IFERROR(IF(OR(入力!$B$14="",入力!$B$14=0),"",IF(VALUE(MID(TEXT(入力!$B$14,"00000000000"),6,1))=0,IF(VALUE(LEFT(TEXT(入力!$B$14,"00000000000"),6))=0,"",MID(TEXT(入力!$B$14,"00000000000"),6,1)),MID(TEXT(入力!$B$14,"00000000000"),6,1))),"") | BP37: =IFERROR(IF(OR(入力!$B$14="",入力!$B$14=0),"",IF(VALUE(MID(TEXT(入力!$B$14,"00000000000"),7,1))=0,IF(VALUE(LEFT(TEXT(入力!$B$14,"00000000000"),7))=0,"",MID(TEXT(入力!$B$14,"00000000000"),7,1)),MID(TEXT(入力!$B$14,"00000000000"),7,1))),"") | BQ37: =IFERROR(IF(OR(入力!$B$14="",入力!$B$14=0),"",IF(VALUE(MID(TEXT(入力!$B$14,"00000000000"),8,1))=0,IF(VALUE(LEFT(TEXT(入力!$B$14,"00000000000"),8))=0,"",MID(TEXT(入力!$B$14,"00000000000"),8,1)),MID(TEXT(入力!$B$14,"00000000000"),8,1))),"") | BR37: =IFERROR(IF(OR(入力!$B$14="",入力!$B$14=0),"",IF(VALUE(MID(TEXT(入力!$B$14,"00000000000"),9,1))=0,IF(VALUE(LEFT(TEXT(入力!$B$14,"00000000000"),9))=0,"",MID(TEXT(入力!$B$14,"00000000000"),9,1)),MID(TEXT(入力!$B$14,"00000000000"),9,1))),"") | BS37: =IFERROR(IF(OR(入力!$B$14="",入力!$B$14=0),"",IF(VALUE(MID(TEXT(入力!$B$14,"00000000000"),10,1))=0,IF(VALUE(LEFT(TEXT(入力!$B$14,"00000000000"),10))=0,"",MID(TEXT(入力!$B$14,"00000000000"),10,1)),MID(TEXT(入力!$B$14,"00000000000"),10,1))),"") | BT37: =IFERROR(IF(OR(入力!$B$14="",入力!$B$14=0),"",IF(VALUE(MID(TEXT(入力!$B$14,"00000000000"),11,1))=0,IF(VALUE(LEFT(TEXT(入力!$B$14,"00000000000"),11))=0,"",MID(TEXT(入力!$B$14,"00000000000"),11,1)),MID(TEXT(入力!$B$14,"00000000000"),11,1))),"")
J39: 4 | L39: =IFERROR(IF(OR(入力!$B$14="",入力!$B$14=0),"",IF(VALUE(MID(TEXT(入力!$B$14,"00000000000"),1,1))=0,IF(VALUE(LEFT(TEXT(入力!$B$14,"00000000000"),1))=0,"",MID(TEXT(入力!$B$14,"00000000000"),1,1)),MID(TEXT(入力!$B$14,"00000000000"),1,1))),"") | M39: =IFERROR(IF(OR(入力!$B$14="",入力!$B$14=0),"",IF(VALUE(MID(TEXT(入力!$B$14,"00000000000"),2,1))=0,IF(VALUE(LEFT(TEXT(入力!$B$14,"00000000000"),2))=0,"",MID(TEXT(入力!$B$14,"00000000000"),2,1)),MID(TEXT(入力!$B$14,"00000000000"),2,1))),"") | N39: =IFERROR(IF(OR(入力!$B$14="",入力!$B$14=0),"",IF(VALUE(MID(TEXT(入力!$B$14,"00000000000"),3,1))=0,IF(VALUE(LEFT(TEXT(入力!$B$14,"00000000000"),3))=0,"",MID(TEXT(入力!$B$14,"00000000000"),3,1)),MID(TEXT(入力!$B$14,"00000000000"),3,1))),"") | O39: =IFERROR(IF(OR(入力!$B$14="",入力!$B$14=0),"",IF(VALUE(MID(TEXT(入力!$B$14,"00000000000"),4,1))=0,IF(VALUE(LEFT(TEXT(入力!$B$14,"00000000000"),4))=0,"",MID(TEXT(入力!$B$14,"00000000000"),4,1)),MID(TEXT(入力!$B$14,"00000000000"),4,1))),"") | P39: =IFERROR(IF(OR(入力!$B$14="",入力!$B$14=0),"",IF(VALUE(MID(TEXT(入力!$B$14,"00000000000"),5,1))=0,IF(VALUE(LEFT(TEXT(入力!$B$14,"00000000000"),5))=0,"",MID(TEXT(入力!$B$14,"00000000000"),5,1)),MID(TEXT(入力!$B$14,"00000000000"),5,1))),"") | Q39: =IFERROR(IF(OR(入力!$B$14="",入力!$B$14=0),"",IF(VALUE(MID(TEXT(入力!$B$14,"00000000000"),6,1))=0,IF(VALUE(LEFT(TEXT(入力!$B$14,"00000000000"),6))=0,"",MID(TEXT(入力!$B$14,"00000000000"),6,1)),MID(TEXT(入力!$B$14,"00000000000"),6,1))),"") | R39: =IFERROR(IF(OR(入力!$B$14="",入力!$B$14=0),"",IF(VALUE(MID(TEXT(入力!$B$14,"00000000000"),7,1))=0,IF(VALUE(LEFT(TEXT(入力!$B$14,"00000000000"),7))=0,"",MID(TEXT(入力!$B$14,"00000000000"),7,1)),MID(TEXT(入力!$B$14,"00000000000"),7,1))),"") | S39: =IFERROR(IF(OR(入力!$B$14="",入力!$B$14=0),"",IF(VALUE(MID(TEXT(入力!$B$14,"00000000000"),8,1))=0,IF(VALUE(LEFT(TEXT(入力!$B$14,"00000000000"),8))=0,"",MID(TEXT(入力!$B$14,"00000000000"),8,1)),MID(TEXT(入力!$B$14,"00000000000"),8,1))),"") | T39: =IFERROR(IF(OR(入力!$B$14="",入力!$B$14=0),"",IF(VALUE(MID(TEXT(入力!$B$14,"00000000000"),9,1))=0,IF(VALUE(LEFT(TEXT(入力!$B$14,"00000000000"),9))=0,"",MID(TEXT(入力!$B$14,"00000000000"),9,1)),MID(TEXT(入力!$B$14,"00000000000"),9,1))),"") | U39: =IFERROR(IF(OR(入力!$B$14="",入力!$B$14=0),"",IF(VALUE(MID(TEXT(入力!$B$14,"00000000000"),10,1))=0,IF(VALUE(LEFT(TEXT(入力!$B$14,"00000000000"),10))=0,"",MID(TEXT(入力!$B$14,"00000000000"),10,1)),MID(TEXT(入力!$B$14,"00000000000"),10,1))),"") | V39: =IFERROR(IF(OR(入力!$B$14="",入力!$B$14=0),"",IF(VALUE(MID(TEXT(入力!$B$14,"00000000000"),11,1))=0,IF(VALUE(LEFT(TEXT(入力!$B$14,"00000000000"),11))=0,"",MID(TEXT(入力!$B$14,"00000000000"),11,1)),MID(TEXT(入力!$B$14,"00000000000"),11,1))),"") | AI39: 4 | AK39: =IFERROR(IF(OR(入力!$B$14="",入力!$B$14=0),"",IF(VALUE(MID(TEXT(入力!$B$14,"00000000000"),1,1))=0,IF(VALUE(LEFT(TEXT(入力!$B$14,"00000000000"),1))=0,"",MID(TEXT(入力!$B$14,"00000000000"),1,1)),MID(TEXT(入力!$B$14,"00000000000"),1,1))),"") | AL39: =IFERROR(IF(OR(入力!$B$14="",入力!$B$14=0),"",IF(VALUE(MID(TEXT(入力!$B$14,"00000000000"),2,1))=0,IF(VALUE(LEFT(TEXT(入力!$B$14,"00000000000"),2))=0,"",MID(TEXT(入力!$B$14,"00000000000"),2,1)),MID(TEXT(入力!$B$14,"00000000000"),2,1))),"") | AM39: =IFERROR(IF(OR(入力!$B$14="",入力!$B$14=0),"",IF(VALUE(MID(TEXT(入力!$B$14,"00000000000"),3,1))=0,IF(VALUE(LEFT(TEXT(入力!$B$14,"00000000000"),3))=0,"",MID(TEXT(入力!$B$14,"00000000000"),3,1)),MID(TEXT(入力!$B$14,"00000000000"),3,1))),"") | AN39: =IFERROR(IF(OR(入力!$B$14="",入力!$B$14=0),"",IF(VALUE(MID(TEXT(入力!$B$14,"00000000000"),4,1))=0,IF(VALUE(LEFT(TEXT(入力!$B$14,"00000000000"),4))=0,"",MID(TEXT(入力!$B$14,"00000000000"),4,1)),MID(TEXT(入力!$B$14,"00000000000"),4,1))),"") | AO39: =IFERROR(IF(OR(入力!$B$14="",入力!$B$14=0),"",IF(VALUE(MID(TEXT(入力!$B$14,"00000000000"),5,1))=0,IF(VALUE(LEFT(TEXT(入力!$B$14,"00000000000"),5))=0,"",MID(TEXT(入力!$B$14,"00000000000"),5,1)),MID(TEXT(入力!$B$14,"00000000000"),5,1))),"") | AP39: =IFERROR(IF(OR(入力!$B$14="",入力!$B$14=0),"",IF(VALUE(MID(TEXT(入力!$B$14,"00000000000"),6,1))=0,IF(VALUE(LEFT(TEXT(入力!$B$14,"00000000000"),6))=0,"",MID(TEXT(入力!$B$14,"00000000000"),6,1)),MID(TEXT(入力!$B$14,"00000000000"),6,1))),"") | AQ39: =IFERROR(IF(OR(入力!$B$14="",入力!$B$14=0),"",IF(VALUE(MID(TEXT(入力!$B$14,"00000000000"),7,1))=0,IF(VALUE(LEFT(TEXT(入力!$B$14,"00000000000"),7))=0,"",MID(TEXT(入力!$B$14,"00000000000"),7,1)),MID(TEXT(入力!$B$14,"00000000000"),7,1))),"") | AR39: =IFERROR(IF(OR(入力!$B$14="",入力!$B$14=0),"",IF(VALUE(MID(TEXT(入力!$B$14,"00000000000"),8,1))=0,IF(VALUE(LEFT(TEXT(入力!$B$14,"00000000000"),8))=0,"",MID(TEXT(入力!$B$14,"00000000000"),8,1)),MID(TEXT(入力!$B$14,"00000000000"),8,1))),"") | AS39: =IFERROR(IF(OR(入力!$B$14="",入力!$B$14=0),"",IF(VALUE(MID(TEXT(入力!$B$14,"00000000000"),9,1))=0,IF(VALUE(LEFT(TEXT(入力!$B$14,"00000000000"),9))=0,"",MID(TEXT(入力!$B$14,"00000000000"),9,1)),MID(TEXT(入力!$B$14,"00000000000"),9,1))),"") | AT39: =IFERROR(IF(OR(入力!$B$14="",入力!$B$14=0),"",IF(VALUE(MID(TEXT(入力!$B$14,"00000000000"),10,1))=0,IF(VALUE(LEFT(TEXT(入力!$B$14,"00000000000"),10))=0,"",MID(TEXT(入力!$B$14,"00000000000"),10,1)),MID(TEXT(入力!$B$14,"00000000000"),10,1))),"") | AU39: =IFERROR(IF(OR(入力!$B$14="",入力!$B$14=0),"",IF(VALUE(MID(TEXT(入力!$B$14,"00000000000"),11,1))=0,IF(VALUE(LEFT(TEXT(入力!$B$14,"00000000000"),11))=0,"",MID(TEXT(入力!$B$14,"00000000000"),11,1)),MID(TEXT(入力!$B$14,"00000000000"),11,1))),"") | BH39: 4 | BJ39: =IFERROR(IF(OR(入力!$B$14="",入力!$B$14=0),"",IF(VALUE(MID(TEXT(入力!$B$14,"00000000000"),1,1))=0,IF(VALUE(LEFT(TEXT(入力!$B$14,"00000000000"),1))=0,"",MID(TEXT(入力!$B$14,"00000000000"),1,1)),MID(TEXT(入力!$B$14,"00000000000"),1,1))),"") | BK39: =IFERROR(IF(OR(入力!$B$14="",入力!$B$14=0),"",IF(VALUE(MID(TEXT(入力!$B$14,"00000000000"),2,1))=0,IF(VALUE(LEFT(TEXT(入力!$B$14,"00000000000"),2))=0,"",MID(TEXT(入力!$B$14,"00000000000"),2,1)),MID(TEXT(入力!$B$14,"00000000000"),2,1))),"") | BL39: =IFERROR(IF(OR(入力!$B$14="",入力!$B$14=0),"",IF(VALUE(MID(TEXT(入力!$B$14,"00000000000"),3,1))=0,IF(VALUE(LEFT(TEXT(入力!$B$14,"00000000000"),3))=0,"",MID(TEXT(入力!$B$14,"00000000000"),3,1)),MID(TEXT(入力!$B$14,"00000000000"),3,1))),"") | BM39: =IFERROR(IF(OR(入力!$B$14="",入力!$B$14=0),"",IF(VALUE(MID(TEXT(入力!$B$14,"00000000000"),4,1))=0,IF(VALUE(LEFT(TEXT(入力!$B$14,"00000000000"),4))=0,"",MID(TEXT(入力!$B$14,"00000000000"),4,1)),MID(TEXT(入力!$B$14,"00000000000"),4,1))),"") | BN39: =IFERROR(IF(OR(入力!$B$14="",入力!$B$14=0),"",IF(VALUE(MID(TEXT(入力!$B$14,"00000000000"),5,1))=0,IF(VALUE(LEFT(TEXT(入力!$B$14,"00000000000"),5))=0,"",MID(TEXT(入力!$B$14,"00000000000"),5,1)),MID(TEXT(入力!$B$14,"00000000000"),5,1))),"") | BO39: =IFERROR(IF(OR(入力!$B$14="",入力!$B$14=0),"",IF(VALUE(MID(TEXT(入力!$B$14,"00000000000"),6,1))=0,IF(VALUE(LEFT(TEXT(入力!$B$14,"00000000000"),6))=0,"",MID(TEXT(入力!$B$14,"00000000000"),6,1)),MID(TEXT(入力!$B$14,"00000000000"),6,1))),"") | BP39: =IFERROR(IF(OR(入力!$B$14="",入力!$B$14=0),"",IF(VALUE(MID(TEXT(入力!$B$14,"00000000000"),7,1))=0,IF(VALUE(LEFT(TEXT(入力!$B$14,"00000000000"),7))=0,"",MID(TEXT(入力!$B$14,"00000000000"),7,1)),MID(TEXT(入力!$B$14,"00000000000"),7,1))),"") | BQ39: =IFERROR(IF(OR(入力!$B$14="",入力!$B$14=0),"",IF(VALUE(MID(TEXT(入力!$B$14,"00000000000"),8,1))=0,IF(VALUE(LEFT(TEXT(入力!$B$14,"00000000000"),8))=0,"",MID(TEXT(入力!$B$14,"00000000000"),8,1)),MID(TEXT(入力!$B$14,"00000000000"),8,1))),"") | BR39: =IFERROR(IF(OR(入力!$B$14="",入力!$B$14=0),"",IF(VALUE(MID(TEXT(入力!$B$14,"00000000000"),9,1))=0,IF(VALUE(LEFT(TEXT(入力!$B$14,"00000000000"),9))=0,"",MID(TEXT(入力!$B$14,"00000000000"),9,1)),MID(TEXT(入力!$B$14,"00000000000"),9,1))),"") | BS39: =IFERROR(IF(OR(入力!$B$14="",入力!$B$14=0),"",IF(VALUE(MID(TEXT(入力!$B$14,"00000000000"),10,1))=0,IF(VALUE(LEFT(TEXT(入力!$B$14,"00000000000"),10))=0,"",MID(TEXT(入力!$B$14,"00000000000"),10,1)),MID(TEXT(入力!$B$14,"00000000000"),10,1))),"") | BT39: =IFERROR(IF(OR(入力!$B$14="",入力!$B$14=0),"",IF(VALUE(MID(TEXT(入力!$B$14,"00000000000"),11,1))=0,IF(VALUE(LEFT(TEXT(入力!$B$14,"00000000000"),11))=0,"",MID(TEXT(入力!$B$14,"00000000000"),11,1)),MID(TEXT(入力!$B$14,"00000000000"),11,1))),"")
B41: 合計額 | J41: 5 | L41: =IFERROR(IF(OR(入力!$B$15="",入力!$B$15=0),"",IF(VALUE(MID(TEXT(入力!$B$15,"00000000000"),1,1))=0,IF(VALUE(LEFT(TEXT(入力!$B$15,"00000000000"),1))=0,"",MID(TEXT(入力!$B$15,"00000000000"),1,1)),MID(TEXT(入力!$B$15,"00000000000"),1,1))),"") | M41: =IFERROR(IF(OR(入力!$B$15="",入力!$B$15=0),"",IF(VALUE(MID(TEXT(入力!$B$15,"00000000000"),2,1))=0,IF(VALUE(LEFT(TEXT(入力!$B$15,"00000000000"),2))=0,"",MID(TEXT(入力!$B$15,"00000000000"),2,1)),MID(TEXT(入力!$B$15,"00000000000"),2,1))),"") | N41: =IFERROR(IF(OR(入力!$B$15="",入力!$B$15=0),"",IF(VALUE(MID(TEXT(入力!$B$15,"00000000000"),3,1))=0,IF(VALUE(LEFT(TEXT(入力!$B$15,"00000000000"),3))=0,"",MID(TEXT(入力!$B$15,"00000000000"),3,1)),MID(TEXT(入力!$B$15,"00000000000"),3,1))),"") | O41: =IFERROR(IF(OR(入力!$B$15="",入力!$B$15=0),"",IF(VALUE(MID(TEXT(入力!$B$15,"00000000000"),4,1))=0,IF(VALUE(LEFT(TEXT(入力!$B$15,"00000000000"),4))=0,"",MID(TEXT(入力!$B$15,"00000000000"),4,1)),MID(TEXT(入力!$B$15,"00000000000"),4,1))),"") | P41: =IFERROR(IF(OR(入力!$B$15="",入力!$B$15=0),"",IF(VALUE(MID(TEXT(入力!$B$15,"00000000000"),5,1))=0,IF(VALUE(LEFT(TEXT(入力!$B$15,"00000000000"),5))=0,"",MID(TEXT(入力!$B$15,"00000000000"),5,1)),MID(TEXT(入力!$B$15,"00000000000"),5,1))),"") | Q41: =IFERROR(IF(OR(入力!$B$15="",入力!$B$15=0),"",IF(VALUE(MID(TEXT(入力!$B$15,"00000000000"),6,1))=0,IF(VALUE(LEFT(TEXT(入力!$B$15,"00000000000"),6))=0,"",MID(TEXT(入力!$B$15,"00000000000"),6,1)),MID(TEXT(入力!$B$15,"00000000000"),6,1))),"") | R41: =IFERROR(IF(OR(入力!$B$15="",入力!$B$15=0),"",IF(VALUE(MID(TEXT(入力!$B$15,"00000000000"),7,1))=0,IF(VALUE(LEFT(TEXT(入力!$B$15,"00000000000"),7))=0,"",MID(TEXT(入力!$B$15,"00000000000"),7,1)),MID(TEXT(入力!$B$15,"00000000000"),7,1))),"") | S41: =IFERROR(IF(OR(入力!$B$15="",入力!$B$15=0),"",IF(VALUE(MID(TEXT(入力!$B$15,"00000000000"),8,1))=0,IF(VALUE(LEFT(TEXT(入力!$B$15,"00000000000"),8))=0,"",MID(TEXT(入力!$B$15,"00000000000"),8,1)),MID(TEXT(入力!$B$15,"00000000000"),8,1))),"") | T41: =IFERROR(IF(OR(入力!$B$15="",入力!$B$15=0),"",IF(VALUE(MID(TEXT(入力!$B$15,"00000000000"),9,1))=0,IF(VALUE(LEFT(TEXT(入力!$B$15,"00000000000"),9))=0,"",MID(TEXT(入力!$B$15,"00000000000"),9,1)),MID(TEXT(入力!$B$15,"00000000000"),9,1))),"") | U41: =IFERROR(IF(OR(入力!$B$15="",入力!$B$15=0),"",IF(VALUE(MID(TEXT(入力!$B$15,"00000000000"),10,1))=0,IF(VALUE(LEFT(TEXT(入力!$B$15,"00000000000"),10))=0,"",MID(TEXT(入力!$B$15,"00000000000"),10,1)),MID(TEXT(入力!$B$15,"00000000000"),10,1))),"") | V41: =IFERROR(IF(OR(入力!$B$15="",入力!$B$15=0),"",IF(VALUE(MID(TEXT(入力!$B$15,"00000000000"),11,1))=0,IF(VALUE(LEFT(TEXT(入力!$B$15,"00000000000"),11))=0,"",MID(TEXT(入力!$B$15,"00000000000"),11,1)),MID(TEXT(入力!$B$15,"00000000000"),11,1))),"") | AA41: 合計額 | AI41: 5 | AK41: =IFERROR(IF(OR(入力!$B$15="",入力!$B$15=0),"",IF(VALUE(MID(TEXT(入力!$B$15,"00000000000"),1,1))=0,IF(VALUE(LEFT(TEXT(入力!$B$15,"00000000000"),1))=0,"",MID(TEXT(入力!$B$15,"00000000000"),1,1)),MID(TEXT(入力!$B$15,"00000000000"),1,1))),"") | AL41: =IFERROR(IF(OR(入力!$B$15="",入力!$B$15=0),"",IF(VALUE(MID(TEXT(入力!$B$15,"00000000000"),2,1))=0,IF(VALUE(LEFT(TEXT(入力!$B$15,"00000000000"),2))=0,"",MID(TEXT(入力!$B$15,"00000000000"),2,1)),MID(TEXT(入力!$B$15,"00000000000"),2,1))),"") | AM41: =IFERROR(IF(OR(入力!$B$15="",入力!$B$15=0),"",IF(VALUE(MID(TEXT(入力!$B$15,"00000000000"),3,1))=0,IF(VALUE(LEFT(TEXT(入力!$B$15,"00000000000"),3))=0,"",MID(TEXT(入力!$B$15,"00000000000"),3,1)),MID(TEXT(入力!$B$15,"00000000000"),3,1))),"") | AN41: =IFERROR(IF(OR(入力!$B$15="",入力!$B$15=0),"",IF(VALUE(MID(TEXT(入力!$B$15,"00000000000"),4,1))=0,IF(VALUE(LEFT(TEXT(入力!$B$15,"00000000000"),4))=0,"",MID(TEXT(入力!$B$15,"00000000000"),4,1)),MID(TEXT(入力!$B$15,"00000000000"),4,1))),"") | AO41: =IFERROR(IF(OR(入力!$B$15="",入力!$B$15=0),"",IF(VALUE(MID(TEXT(入力!$B$15,"00000000000"),5,1))=0,IF(VALUE(LEFT(TEXT(入力!$B$15,"00000000000"),5))=0,"",MID(TEXT(入力!$B$15,"00000000000"),5,1)),MID(TEXT(入力!$B$15,"00000000000"),5,1))),"") | AP41: =IFERROR(IF(OR(入力!$B$15="",入力!$B$15=0),"",IF(VALUE(MID(TEXT(入力!$B$15,"00000000000"),6,1))=0,IF(VALUE(LEFT(TEXT(入力!$B$15,"00000000000"),6))=0,"",MID(TEXT(入力!$B$15,"00000000000"),6,1)),MID(TEXT(入力!$B$15,"00000000000"),6,1))),"") | AQ41: =IFERROR(IF(OR(入力!$B$15="",入力!$B$15=0),"",IF(VALUE(MID(TEXT(入力!$B$15,"00000000000"),7,1))=0,IF(VALUE(LEFT(TEXT(入力!$B$15,"00000000000"),7))=0,"",MID(TEXT(入力!$B$15,"00000000000"),7,1)),MID(TEXT(入力!$B$15,"00000000000"),7,1))),"") | AR41: =IFERROR(IF(OR(入力!$B$15="",入力!$B$15=0),"",IF(VALUE(MID(TEXT(入力!$B$15,"00000000000"),8,1))=0,IF(VALUE(LEFT(TEXT(入力!$B$15,"00000000000"),8))=0,"",MID(TEXT(入力!$B$15,"00000000000"),8,1)),MID(TEXT(入力!$B$15,"00000000000"),8,1))),"") | AS41: =IFERROR(IF(OR(入力!$B$15="",入力!$B$15=0),"",IF(VALUE(MID(TEXT(入力!$B$15,"00000000000"),9,1))=0,IF(VALUE(LEFT(TEXT(入力!$B$15,"00000000000"),9))=0,"",MID(TEXT(入力!$B$15,"00000000000"),9,1)),MID(TEXT(入力!$B$15,"00000000000"),9,1))),"") | AT41: =IFERROR(IF(OR(入力!$B$15="",入力!$B$15=0),"",IF(VALUE(MID(TEXT(入力!$B$15,"00000000000"),10,1))=0,IF(VALUE(LEFT(TEXT(入力!$B$15,"00000000000"),10))=0,"",MID(TEXT(入力!$B$15,"00000000000"),10,1)),MID(TEXT(入力!$B$15,"00000000000"),10,1))),"") | AU41: =IFERROR(IF(OR(入力!$B$15="",入力!$B$15=0),"",IF(VALUE(MID(TEXT(入力!$B$15,"00000000000"),11,1))=0,IF(VALUE(LEFT(TEXT(入力!$B$15,"00000000000"),11))=0,"",MID(TEXT(入力!$B$15,"00000000000"),11,1)),MID(TEXT(入力!$B$15,"00000000000"),11,1))),"") | AZ41: 合計額 | BH41: 5 | BJ41: =IFERROR(IF(OR(入力!$B$15="",入力!$B$15=0),"",IF(VALUE(MID(TEXT(入力!$B$15,"00000000000"),1,1))=0,IF(VALUE(LEFT(TEXT(入力!$B$15,"00000000000"),1))=0,"",MID(TEXT(入力!$B$15,"00000000000"),1,1)),MID(TEXT(入力!$B$15,"00000000000"),1,1))),"") | BK41: =IFERROR(IF(OR(入力!$B$15="",入力!$B$15=0),"",IF(VALUE(MID(TEXT(入力!$B$15,"00000000000"),2,1))=0,IF(VALUE(LEFT(TEXT(入力!$B$15,"00000000000"),2))=0,"",MID(TEXT(入力!$B$15,"00000000000"),2,1)),MID(TEXT(入力!$B$15,"00000000000"),2,1))),"") | BL41: =IFERROR(IF(OR(入力!$B$15="",入力!$B$15=0),"",IF(VALUE(MID(TEXT(入力!$B$15,"00000000000"),3,1))=0,IF(VALUE(LEFT(TEXT(入力!$B$15,"00000000000"),3))=0,"",MID(TEXT(入力!$B$15,"00000000000"),3,1)),MID(TEXT(入力!$B$15,"00000000000"),3,1))),"") | BM41: =IFERROR(IF(OR(入力!$B$15="",入力!$B$15=0),"",IF(VALUE(MID(TEXT(入力!$B$15,"00000000000"),4,1))=0,IF(VALUE(LEFT(TEXT(入力!$B$15,"00000000000"),4))=0,"",MID(TEXT(入力!$B$15,"00000000000"),4,1)),MID(TEXT(入力!$B$15,"00000000000"),4,1))),"") | BN41: =IFERROR(IF(OR(入力!$B$15="",入力!$B$15=0),"",IF(VALUE(MID(TEXT(入力!$B$15,"00000000000"),5,1))=0,IF(VALUE(LEFT(TEXT(入力!$B$15,"00000000000"),5))=0,"",MID(TEXT(入力!$B$15,"00000000000"),5,1)),MID(TEXT(入力!$B$15,"00000000000"),5,1))),"") | BO41: =IFERROR(IF(OR(入力!$B$15="",入力!$B$15=0),"",IF(VALUE(MID(TEXT(入力!$B$15,"00000000000"),6,1))=0,IF(VALUE(LEFT(TEXT(入力!$B$15,"00000000000"),6))=0,"",MID(TEXT(入力!$B$15,"00000000000"),6,1)),MID(TEXT(入力!$B$15,"00000000000"),6,1))),"") | BP41: =IFERROR(IF(OR(入力!$B$15="",入力!$B$15=0),"",IF(VALUE(MID(TEXT(入力!$B$15,"00000000000"),7,1))=0,IF(VALUE(LEFT(TEXT(入力!$B$15,"00000000000"),7))=0,"",MID(TEXT(入力!$B$15,"00000000000"),7,1)),MID(TEXT(入力!$B$15,"00000000000"),7,1))),"") | BQ41: =IFERROR(IF(OR(入力!$B$15="",入力!$B$15=0),"",IF(VALUE(MID(TEXT(入力!$B$15,"00000000000"),8,1))=0,IF(VALUE(LEFT(TEXT(入力!$B$15,"00000000000"),8))=0,"",MID(TEXT(入力!$B$15,"00000000000"),8,1)),MID(TEXT(入力!$B$15,"00000000000"),8,1))),"") | BR41: =IFERROR(IF(OR(入力!$B$15="",入力!$B$15=0),"",IF(VALUE(MID(TEXT(入力!$B$15,"00000000000"),9,1))=0,IF(VALUE(LEFT(TEXT(入力!$B$15,"00000000000"),9))=0,"",MID(TEXT(入力!$B$15,"00000000000"),9,1)),MID(TEXT(入力!$B$15,"00000000000"),9,1))),"") | BS41: =IFERROR(IF(OR(入力!$B$15="",入力!$B$15=0),"",IF(VALUE(MID(TEXT(入力!$B$15,"00000000000"),10,1))=0,IF(VALUE(LEFT(TEXT(入力!$B$15,"00000000000"),10))=0,"",MID(TEXT(入力!$B$15,"00000000000"),10,1)),MID(TEXT(入力!$B$15,"00000000000"),10,1))),"") | BT41: =IFERROR(IF(OR(入力!$B$15="",入力!$B$15=0),"",IF(VALUE(MID(TEXT(入力!$B$15,"00000000000"),11,1))=0,IF(VALUE(LEFT(TEXT(入力!$B$15,"00000000000"),11))=0,"",MID(TEXT(入力!$B$15,"00000000000"),11,1)),MID(TEXT(入力!$B$15,"00000000000"),11,1))),"")
B43: 納期限 | G43: =IF(入力!$B$16="","","令和 "&((YEAR(入力!$B$16))-2018)&"年 "&MONTH(入力!$B$16)&"月 "&DAY(入力!$B$16)&"日") | P43: 領収日付印 | AA43: 納期限 | AE43: =IF(入力!$B$16="","","令和 "&((YEAR(入力!$B$16))-2018)&"年 "&MONTH(入力!$B$16)&"月 "&DAY(入力!$B$16)&"日") | AO43: 領収日付印 | AZ43: 納期限 | BD43: =IF(入力!$B$16="","","令和 "&((YEAR(入力!$B$16))-2018)&"年 "&MONTH(入力!$B$16)&"月 "&DAY(入力!$B$16)&"日") | BN43: 領収日付印
B44: 指 定 金 融 機 関 名 | G44: 千葉銀行流山支店 | AA44: 日計
AN45: 口
B46: 取りまとめ店 | G46: 〒３３０－９７９４ ゆうちょ銀行 東京貯金事務センター
AN47: 円
B49: 上記のとおり通知します。（市町村保管） | AA49: 上記のとおり納付します。（金融機関又は郵便局保管） | AZ49: 上記のとおり領収しました。（納税者保管）
