Workbook

Sheet 提出書類について 
B6: このファイルは、流山市訪問看護師オンコール対応体制整備事業補助金に係る市の様式をまとめたものです。
B7: 色がついているものは、各エクセルシートのタブを表しています。【 】は提出時期です。
B9: はじめに | D9: 施設基本情報入力 | F9: に法人情報と事業所情報を入力してください。
B11: 交付申請 | C11: 【申請開始日以降】
C12: ※年度始めの給与支払日の１０日前までに提出してください。
C13: ※交付決定前に支給した分は、補助対象として認められませんのでご注意ください。
C14: 対象者リスト（申請） | F14: ＋ | G14: 添付書類 | H14: 1 | I14: 看護師免許証
C15: 第１号様式（申請書） | H15: 2 | I15: 雇用契約書又は労働条件通知書
C16: １号添付 補助金算出調書 | H16: 3 | I16: その他市長が必要と認める書類
C17: １号添付 事業所追加分①・② | H17: ※前年度に引き続き補助対象とする職員は、任意様式に前年度申請職員の「氏名」・「生年月日」の一覧表を作成して提出すれば、登録証や専門員証、雇用契約書等の写しは不要です。
C18: 原本証明書（申請）
B20: 概算交付請求 | D20: 【市から交付決定通知書が届いたらすぐに】
B22: 1 | C22: 施設基本情報入力 | E22: の①に「交付決定通知書」の内容を入力する。
B24: 2 | C24: 第８号様式 | E24: を作成し、市に送付する。
C25: 委任状※
C26: ※振込口座が法人名義でない場合は作成してください
B28: 変更申請 | C28: 【提出期限：３月中旬頃（別途連絡します）】
C29: ※年度途中の入退職者等により交付金額に変更がある場合はまとめてこの時期に変更申請をお願いします。
C30: 対象者リスト（変更） | F30: ＋ | G30: 添付書類 | H30: 1 | I30: 看護師免許証※
C31: 第３号様式（変更交付申請） | H31: 2 | I31: 雇用契約書又は労働条件通知書※
C32: ３号添付 変更申請額算出調書 | H32: 3 | I32: その他市長が必要と認める書類※
C33: ３号添付 事業所追加分①・② | H33: ※年度途中に補助対象となった職員（入職者、資格取得者）のもの
C34: 原本証明書（変更）
B37: 実績報告 | C37: 【翌年度の４月１日から４月１０日までに！！】
C40: 第５号様式 | F40: ＋ | G40: 添付書類 | H40: 1 | I40: 支給明細書又は賃金台帳※（対象職員全員分×支給月分）
C41: ５号添付 支給額一覧表(1～30) | I41: ※支給明細書等において流山市からの補助金9,000円の支給が、
C42: ５号添付 支給額一覧表(31~60) | I42: 明確になっているものを提出ください。
C43: 原本証明書（実績報告）
C44: 精算書
B47: 追加請求 | C47: 【市から交付確定通知書が届いたらすぐに】
C49: 第７号様式 | F49: を作成し、市に送付する。
C50: 委任状（精算）※
C51: ※振込口座が法人名義でない場合は作成してください

Sheet 施設基本情報入力
A1: 施設基本情報入力
B6: 法人情報 | F6: 事業所情報
B7: 1 | C7: 法人名 | G7: 事業所名 | H7: サービス種別 （訪問看護、小規模多機能居宅 等） | K7: オンコール対応看護師
B8: 2 | C8: 法人所在地 | F8: 1
B9: 3 | C9: 法人代表者 職名 （理事長、代表取締役など） | F9: 2
B10: 4 | C10: 法人代表者 氏名 | F10: 3 | K10: 〇
B11: 5 | C11: 担当者 氏名 | F11: 4
B12: 6 | C12: 連絡先 電話番号を入力してください | F12: 5
B13: 7 | C13: 書類送付希望先 法人所在地以外への送付をご希望の際は入力してください。 （希望なければ入力は不要。） | F13: 6
F14: 7
F15: 8
B16: ①申請後、市から交付決定通知書が届いたら入力 | F16: 9
B17: 1 | C17: 補助金交付決定日 | F17: 10
B18: 2 | C18: 指令番号 （数字のみ記載） | F18: 11
B19: 3 | C19: 当初交付確定額 | F19: 12
F20: 13
F21: 14
F22: 15

Sheet 対象者リスト（申請）
B2: 訪問看護師オンコール対応体制整備事業 算出内訳（交付申請）
C4: 法人名 | D4: =施設基本情報入力!$D$7 -> 0
C5: 法人所在地 | D5: =施設基本情報入力!$D$8 -> 0
C6: 担当者 | D6: =施設基本情報入力!$D$11&" "&施設基本情報入力!$D$12
C7: 書類送付先 | D7: =IF(施設基本情報入力!$D$13="","",施設基本情報入力!$D$13)
B9: （１）補助額
C10: オンコール対応看護師数の計(A) | E10: =D121 -> 3
C11: 補助対象月数の計(B) | E11: =G121 -> 27
C12: 補助合計額（年計）(C) | E12: =H121 -> 243000
B16: （２）内訳書
B17: （Ａ）職員氏名は、看護師免許の資格を持ち、オンコール対応に従事して勤務する職員の氏名を記載する。 （Ｂ）補助対象月数は、月に１回以上、勤務時間外にいつ呼び出しがかかっても駆けつけられるよう、 自宅などで待機した月数を記載すること。 （Ｃ）補助合計額は、補助額（月額）に補助対象月数を乗じた額。 ＊途中入社、途中退社、産休・育休等で補助対象月数が１２カ月でない場合、備考欄に 「○月入社予定」「○月末退職予定」等のように記載すること。
C19: 事業所名 | D19: 職員氏名 | E19: 資格 | F19: 補助額 （月額） | G19: 補助対象 月数 | H19: 補助合計額 9,000×B | I19: 備考
D20: (A) | G20: (B) | H20: (C)
A21: =CONCATENATE(C21,"-",COUNTIF($C$21:C21,C21)) -> 杜の町訪問看護ステーション-1 | B21: 1 | C21: 杜の町訪問看護ステーション | D21: いぬ | E21: オンコール対応看護師 | F21: 9000 | G21: 9 | H21: =F21*G21 -> 81000
A22: =CONCATENATE(C22,"-",COUNTIF($C$21:C22,C22)) -> 杜の町訪問看護ステーション-2 | B22: 2 | C22: 杜の町訪問看護ステーション | D22: さる | E22: オンコール対応看護師 | F22: 9000 | G22: 9 | H22: =F22*G22 -> 81000
A23: =CONCATENATE(C23,"-",COUNTIF($C$21:C23,C23)) -> 杜の町訪問看護ステーション-3 | B23: 3 | C23: 杜の町訪問看護ステーション | D23: とり | E23: オンコール対応看護師 | F23: 9000 | G23: 9 | H23: =F23*G23 -> 81000
A24: =CONCATENATE(C24,"-",COUNTIF($C$21:C24,C24)) -> -0 | B24: 4 | F24: 9000 | G24: 0 | H24: =F24*G24 -> 0
A25: =CONCATENATE(C25,"-",COUNTIF($C$21:C25,C25)) -> -0 | B25: 5 | F25: 9000 | G25: 0 | H25: =F25*G25 -> 0
A26: =CONCATENATE(C26,"-",COUNTIF($C$21:C26,C26)) -> -0 | B26: 6 | F26: 9000 | G26: 0 | H26: =F26*G26 -> 0
A27: =CONCATENATE(C27,"-",COUNTIF($C$21:C27,C27)) -> -0 | B27: 7 | F27: 9000 | G27: 0 | H27: =F27*G27 -> 0
A28: =CONCATENATE(C28,"-",COUNTIF($C$21:C28,C28)) -> -0 | B28: 8 | F28: 9000 | G28: 0 | H28: =F28*G28 -> 0
A29: =CONCATENATE(C29,"-",COUNTIF($C$21:C29,C29)) -> -0 | B29: 9 | F29: 9000 | G29: 0 | H29: =F29*G29 -> 0
A30: =CONCATENATE(C30,"-",COUNTIF($C$21:C30,C30)) -> -0 | B30: 10 | F30: 9000 | G30: 0 | H30: =F30*G30 -> 0
A31: =CONCATENATE(C31,"-",COUNTIF($C$21:C31,C31)) -> -0 | B31: 11 | F31: 9000 | G31: 0 | H31: =F31*G31 -> 0
A32: =CONCATENATE(C32,"-",COUNTIF($C$21:C32,C32)) -> -0 | B32: 12 | F32: 9000 | G32: 0 | H32: =F32*G32 -> 0
A33: =CONCATENATE(C33,"-",COUNTIF($C$21:C33,C33)) -> -0 | B33: 13 | F33: 9000 | G33: 0 | H33: =F33*G33 -> 0
A34: =CONCATENATE(C34,"-",COUNTIF($C$21:C34,C34)) -> -0 | B34: 14 | F34: 9000 | G34: 0 | H34: =F34*G34 -> 0
A35: =CONCATENATE(C35,"-",COUNTIF($C$21:C35,C35)) -> -0 | B35: 15 | F35: 9000 | G35: 0 | H35: =F35*G35 -> 0
... A120: =CONCATENATE(C120,"-",COUNTIF($C$21:C120,C120)) -> -0 | B120: 100 | F120: 9000 | G120: 0 | H120: =F120*G120 -> 0
C121: 計 | D121: =COUNTA(D21:D120) -> 3 | E121: 計 | G121: =SUM(G21:G120) -> 27 | H121: =SUM(H21:H120) -> 243000

Sheet 第１号様式（申請書）
A10: 第１号様式（第６条関係）
A13: （宛先）流山市長
E15: 所在地 | F15: =施設基本情報入力!D8 -> 0
E16: 名称 | F16: =施設基本情報入力!D7 -> 0
E17: 事業所名 | F17: =施設基本情報入力!G8 -> 0
E18: 代表者職氏名 | F18: =施設基本情報入力!D9&" "&施設基本情報入力!D10
A21: 流山市訪問看護師オンコール対応体制整備事業補助金交付申請書
A23: 流山市訪問看護師オンコール対応体制整備事業補助金の交付を受けたいので、流山市補助金等交付規則第３条の規定により次のとおり申請します｡
A25: 記
A27: １ 対象訪問看護師を配置している事業所の名称
A29: =" "&施設基本情報入力!G8
A30: =" "&施設基本情報入力!G9
A31: =" "&施設基本情報入力!G10
A32: =" "&施設基本情報入力!G11
A33: =" "&施設基本情報入力!G12
A34: =" "&施設基本情報入力!G13
A35: =" "&施設基本情報入力!G14
A36: =" "&施設基本情報入力!G15
A37: =" "&施設基本情報入力!G16
A38: =" "&施設基本情報入力!G17
A39: =" "&施設基本情報入力!G18
A40: =" "&施設基本情報入力!G19
... A43: =" "&施設基本情報入力!G22
A45: ２ 交付申請額
B46: ='対象者リスト（申請）'!H121 -> 243000 | D46: 円
A48: ３ 添付書類
B49: 流山市訪問看護師オンコール対応体制整備事業補助金算出調書
B50: 補助対象看護師全員の看護師免許証の写し
B51: 補助対象看護師全員の雇用契約書又は労働条件通知書の写し
B52: その他市長が必要と認める書類
A53: ※添付書類に○を付けること。

Sheet １号添付　補助金算出調書
A1: 流山市訪問看護師オンコール対応体制整備事業補助金算出調書
A3: 流山市訪問看護師オンコール対応体制整備事業について、補助対象看護師に周知をした上で、
A4: 提出していることを証明いたします。
G5: ='第１号様式（申請書）'!F11 -> 0
E6: 法人名 | G6: =施設基本情報入力!D7 -> 0
E7: 代表者職氏名 | G7: =施設基本情報入力!D9&" "&施設基本情報入力!D10
E8: 担当者（連絡先） | G8: =施設基本情報入力!D11&"("&施設基本情報入力!D12&")" -> ()
A10: 法人全体
A11: 交付申請額 | C11: =F14 -> 0 | E11: 円
A12: 対象看護師数の計 （ａの合計） | F12: =SUM(D20,D32,D42,D52,D62,'１号添付 事業所追加分①'!D6,'１号添付 事業所追加分①'!D16,'１号添付 事業所追加分①'!D26,'１号添付 事業所追加分①'!D37,'１号添付 事業所追加分①'!D47,'１号添付 事業所追加分①'!D57,'１号添付 事業所追加分 ②'!D6,'１号添付 事業所追加分 ②'!D16,'１号添付 事業所追加分 ②'!D26,'１号添付 事業所追加分 ②'!D37) -> 0 | G12: 人
A13: 補助対象月数の計 （ｂの合計） | F13: =SUM($D$21,$D$33,$D$43,$D$53,$D$63,'１号添付 事業所追加分①'!$D$7,'１号添付 事業所追加分①'!$D$17,'１号添付 事業所追加分①'!$D$27,'１号添付 事業所追加分①'!$D$38,'１号添付 事業所追加分①'!$D$48,'１号添付 事業所追加分①'!$D$58,'１号添付 事業所追加分 ②'!$D$7,'１号添付 事業所追加分 ②'!$D$17,'１号添付 事業所追加分 ②'!$D$27,'１号添付 事業所追加分 ②'!$D$38) -> 0 | G13: か月
A14: 補助金額（年計） （ｃの合計） | F14: =F13*9000 -> 0 | G14: 円
A15: 年度初めの給与支払日
A17: ・主たる事業所名 | C17: =施設基本情報入力!G8 -> 0
A18: ・サービス種別 | C18: =施設基本情報入力!H8 -> 0
A19: 交付申請額
A20: 対象看護師数の計 （ａ） | D20: =COUNTIFS('対象者リスト（申請）'!$C$21:$C$120,施設基本情報入力!G8) -> 0 | E20: 人
A21: 補助対象月数の計 （ｂ） | D21: =SUMIFS('対象者リスト（申請）'!$G$21:$G$120,'対象者リスト（申請）'!$C$21:$C$120,施設基本情報入力!G8) -> 0 | E21: か月
A22: 補助金額（年計） （ｃ） （9,000円×（ｂ）） | D22: =9000*D21 -> 0 | E22: 円
A24: 賃金改善方法について
A25: 例）毎月9,000円を支給 3か月ごとに9,000円×該当月数を支給 など
A28: 以下、同法人の市内別事業所があれば記入してください。
A29: ・事業所名２ | C29: =施設基本情報入力!G9 -> 0
A30: ・サービス種別 | C30: =施設基本情報入力!H9 -> 0
A31: 交付申請額
A32: 対象看護師数の計 （ａ） | D32: =COUNTIFS('対象者リスト（申請）'!$C$21:$C$120,施設基本情報入力!G9) -> 0 | E32: 人
A33: 補助対象月数の計 （ｂ） | D33: =SUMIFS('対象者リスト（申請）'!$G$21:$G$120,'対象者リスト（申請）'!$C$21:$C$120,施設基本情報入力!G9) -> 0 | E33: か月
A34: 補助金額（年計） （ｃ） （9,000円×（ｂ）） | D34: =9000*D33 -> 0 | E34: 円
A36: 賃金改善方法について
A37: 例）毎月9,000円を支給 3か月ごとに9,000円×該当月数を支給 など
A39: ・事業所名３ | C39: =施設基本情報入力!G10 -> 0
A40: ・サービス種別 | C40: =施設基本情報入力!H10 -> 0
A41: 交付申請額
A42: 対象看護師数の計 （ａ） | D42: =COUNTIFS('対象者リスト（申請）'!$C$21:$C$120,施設基本情報入力!G10) -> 0 | E42: 人
A43: 補助対象月数の計 （ｂ） | D43: =SUMIFS('対象者リスト（申請）'!$G$21:$G$120,'対象者リスト（申請）'!$C$21:$C$120,施設基本情報入力!G10) -> 0 | E43: か月
A44: 補助金額（年計） （ｃ） （9,000円×（ｂ）） | D44: =9000*D43 -> 0 | E44: 円
A46: 賃金改善方法について
A47: 例）毎月9,000円を支給 3か月ごとに9,000円×該当月数を支給 など
A49: ・事業所名４ | C49: =施設基本情報入力!G11 -> 0
A50: ・サービス種別 | C50: =施設基本情報入力!H11 -> 0
...

Sheet １号添付　事業所追加分①
A3: ・事業所名６ | C3: =施設基本情報入力!G13 -> 0
A4: ・サービス種別 | C4: =施設基本情報入力!H13 -> 0
A5: 交付申請額
A6: 対象看護師数の計 （ａ） | D6: =COUNTIFS('対象者リスト（申請）'!$C$21:$C$120,施設基本情報入力!G13) -> 0 | E6: 人
A7: 補助対象月数の計 （ｂ） | D7: =SUMIFS('対象者リスト（申請）'!$G$21:$G$120,'対象者リスト（申請）'!$C$21:$C$120,施設基本情報入力!G13) -> 0 | E7: か月
A8: 補助金額（年計） （ｃ） （9,000円×（ｂ）） | D8: =9000*D7 -> 0 | E8: 円
A10: 賃金改善方法について
A11: 例）毎月9,000円を支給 3か月ごとに9,000円×該当月数を支給 など
A13: ・事業所名７ | C13: =施設基本情報入力!G14 -> 0
A14: ・サービス種別 | C14: =施設基本情報入力!H14 -> 0
A15: 交付申請額
A16: 対象看護師数の計 （ａ） | D16: =COUNTIFS('対象者リスト（申請）'!$C$21:$C$120,施設基本情報入力!G14) -> 0 | E16: 人
A17: 補助対象月数の計 （ｂ） | D17: =SUMIFS('対象者リスト（申請）'!$G$21:$G$120,'対象者リスト（申請）'!$C$21:$C$120,施設基本情報入力!G14) -> 0 | E17: か月
A18: 補助金額（年計） （ｃ） （9,000円×（ｂ）） | D18: =9000*D17 -> 0 | E18: 円
A20: 賃金改善方法について
A21: 例）毎月9,000円を支給 3か月ごとに9,000円×該当月数を支給 など
A23: ・事業所名８ | C23: =施設基本情報入力!G15 -> 0
A24: ・サービス種別 | C24: =施設基本情報入力!H15 -> 0
A25: 交付申請額
A26: 対象看護師数の計 （ａ） | D26: =COUNTIFS('対象者リスト（申請）'!$C$21:$C$120,施設基本情報入力!G15) -> 0 | E26: 人
A27: 補助対象月数の計 （ｂ） | D27: =SUMIFS('対象者リスト（申請）'!$G$21:$G$120,'対象者リスト（申請）'!$C$21:$C$120,施設基本情報入力!G15) -> 0 | E27: か月
A28: 補助金額（年計） （ｃ） （9,000円×（ｂ）） | D28: =9000*D27 -> 0 | E28: 円
A30: 賃金改善方法について
A31: 例）毎月9,000円を支給 3か月ごとに9,000円×該当月数を支給 など
A34: ・事業所名９ | C34: =施設基本情報入力!G16 -> 0
A35: ・サービス種別 | C35: =施設基本情報入力!H16 -> 0
A36: 交付申請額
A37: 対象看護師数の計 （ａ） | D37: =COUNTIFS('対象者リスト（申請）'!$C$21:$C$120,施設基本情報入力!G16) -> 0 | E37: 人
A38: 補助対象月数の計 （ｂ） | D38: =SUMIFS('対象者リスト（申請）'!$G$21:$G$120,'対象者リスト（申請）'!$C$21:$C$120,施設基本情報入力!G16) -> 0 | E38: か月
A39: 補助金額（年計） （ｃ） （9,000円×（ｂ）） | D39: =9000*D38 -> 0 | E39: 円
A41: 賃金改善方法について
A42: 例）毎月9,000円を支給 3か月ごとに9,000円×該当月数を支給 など
A44: ・事業所名１０ | C44: =施設基本情報入力!G17 -> 0
A45: ・サービス種別 | C45: =施設基本情報入力!H17 -> 0
A46: 交付申請額
A47: 対象看護師数の計 （ａ） | D47: =COUNTIFS('対象者リスト（申請）'!$C$21:$C$120,施設基本情報入力!G17) -> 0 | E47: 人
A48: 補助対象月数の計 （ｂ） | D48: =SUMIFS('対象者リスト（申請）'!$G$21:$G$120,'対象者リスト（申請）'!$C$21:$C$120,施設基本情報入力!G17) -> 0 | E48: か月
A49: 補助金額（年計） （ｃ） （9,000円×（ｂ）） | D49: =9000*D48 -> 0 | E49: 円
A51: 賃金改善方法について
A52: 例）毎月9,000円を支給 3か月ごとに9,000円×該当月数を支給 など
...

Sheet １号添付　事業所追加分 ②
A3: ・事業所名１２ | C3: =施設基本情報入力!G19 -> 0
A4: ・サービス種別 | C4: =施設基本情報入力!H19 -> 0
A5: 交付申請額
A6: 対象看護師数の計 （ａ） | D6: =COUNTIFS('対象者リスト（申請）'!$C$21:$C$120,施設基本情報入力!G19) -> 0 | E6: 人
A7: 補助対象月数の計 （ｂ） | D7: =SUMIFS('対象者リスト（申請）'!$G$21:$G$120,'対象者リスト（申請）'!$C$21:$C$120,施設基本情報入力!G19) -> 0 | E7: か月
A8: 補助金額（年計） （ｃ） （9,000円×（ｂ）） | D8: =9000*D7 -> 0 | E8: 円
A10: 賃金改善方法について
A11: 例）毎月9,000円を支給 3か月ごとに9,000円×該当月数を支給 など
A13: ・事業所名１３ | C13: =施設基本情報入力!G20 -> 0
A14: ・サービス種別 | C14: =施設基本情報入力!H20 -> 0
A15: 交付申請額
A16: 対象看護師数の計 （ａ） | D16: =COUNTIFS('対象者リスト（申請）'!$C$21:$C$120,施設基本情報入力!G20) -> 0 | E16: 人
A17: 補助対象月数の計 （ｂ） | D17: =SUMIFS('対象者リスト（申請）'!$G$21:$G$120,'対象者リスト（申請）'!$C$21:$C$120,施設基本情報入力!G20) -> 0 | E17: か月
A18: 補助金額（年計） （ｃ） （9,000円×（ｂ）） | D18: =9000*D17 -> 0 | E18: 円
A20: 賃金改善方法について
A21: 例）毎月9,000円を支給 3か月ごとに9,000円×該当月数を支給 など
A23: ・事業所名１４ | C23: =施設基本情報入力!G21 -> 0
A24: ・サービス種別 | C24: =施設基本情報入力!H21 -> 0
A25: 交付申請額
A26: 対象看護師数の計 （ａ） | D26: =COUNTIFS('対象者リスト（申請）'!$C$21:$C$120,施設基本情報入力!G21) -> 0 | E26: 人
A27: 補助対象月数の計 （ｂ） | D27: =SUMIFS('対象者リスト（申請）'!$G$21:$G$120,'対象者リスト（申請）'!$C$21:$C$120,施設基本情報入力!G21) -> 0 | E27: か月
A28: 補助金額（年計） （ｃ） （9,000円×（ｂ）） | D28: =9000*D27 -> 0 | E28: 円
A30: 賃金改善方法について
A31: 例）毎月9,000円を支給 3か月ごとに9,000円×該当月数を支給 など
A34: ・事業所名１５ | C34: =施設基本情報入力!G22 -> 0
A35: ・サービス種別 | C35: =施設基本情報入力!H22 -> 0
A36: 交付申請額
A37: 対象看護師数の計 （ａ） | D37: =COUNTIFS('対象者リスト（申請）'!$C$21:$C$120,施設基本情報入力!G22) -> 0 | E37: 人
A38: 補助対象月数の計 （ｂ） | D38: =SUMIFS('対象者リスト（申請）'!$G$21:$G$120,'対象者リスト（申請）'!$C$21:$C$120,施設基本情報入力!G22) -> 0 | E38: か月
A39: 補助金額（年計） （ｃ） （9,000円×（ｂ）） | D39: =9000*D38 -> 0 | E39: 円
A41: 賃金改善方法について
A42: 例）毎月9,000円を支給 3か月ごとに9,000円×該当月数を支給 など

Sheet 原本証明書（申請）
A3: ='第１号様式（申請書）'!F11 -> 0 | D3: 付けで提出した書類について作成した
A4: 書類の内容に虚偽がないことを保証します。
A5: また、写しの提出がある場合、写しはすべて原本と相違ない
A6: ことを証明します。
A10: =A3 -> 0
A12: 所在地 | C12: =施設基本情報入力!D8 -> 0
A13: 法人名 | C13: =施設基本情報入力!D7 -> 0
A14: 代表者職氏名 | C14: =施設基本情報入力!D9&" "&施設基本情報入力!D10&" 印" -> 印

Sheet 対象者リスト（変更）
B1: 流山市訪問看護師オンコール対応体制整備事業 算出内訳（変更交付申請）
C3: 法人名 | D3: =施設基本情報入力!$D$7 -> 0
C4: 法人所在地 | D4: =施設基本情報入力!$D$8 -> 0
C5: 担当者 | D5: =施設基本情報入力!$D$11&" "&施設基本情報入力!$D$12
C6: 書類送付先 | D6: =IF(施設基本情報入力!$D$13="","",施設基本情報入力!$D$13)
B8: （１）補助額
C9: オンコール対応看護師の人数(A) | E9: =D120 -> 0
C10: 補助対象月数の計(B) | E10: =G120 -> 16
C11: 補助合計額（年計）(C) | E11: =H120 -> 144000
B15: （２）内訳書
B16: （Ａ）職員氏名は、看護師免許の資格を持ち、オンコール対応に従事して勤務する職員の氏名を記載する。 （Ｂ）補助対象月数は、月に１回以上、勤務時間外にいつ呼び出しがかかっても駆けつけられるよう、 自宅などで待機した月数を記載すること。 （Ｃ）補助合計額は、補助額（月額）に補助対象月数を乗じた額。 ＊途中入社、途中退社、産休・育休等で補助対象月数が１２カ月でない場合、備考欄に 「○月入社予定」「○月末退職予定」等のように記載すること。
C18: 事業所名 | D18: 職員氏名 | E18: 資格 | F18: 補助額 （月額） | G18: 補助対象 月数 | H18: 補助合計額 9,000×B | I18: 備考
D19: (A) | G19: (B) | H19: (C)
A20: =CONCATENATE(C20,"-",COUNTIF($C$20:C20,C20)) -> -0 | B20: 1 | F20: 9000 | G20: 9 | H20: =F20*G20 -> 81000
A21: =CONCATENATE(C21,"-",COUNTIF($C$20:C21,C21)) -> -0 | B21: 2 | F21: 9000 | G21: 7 | H21: =F21*G21 -> 63000
A22: =CONCATENATE(C22,"-",COUNTIF($C$20:C22,C22)) -> -0 | B22: 3 | F22: 9000 | G22: 0 | H22: =F22*G22 -> 0
A23: =CONCATENATE(C23,"-",COUNTIF($C$20:C23,C23)) -> -0 | B23: 4 | F23: 9000 | G23: 0 | H23: =F23*G23 -> 0
A24: =CONCATENATE(C24,"-",COUNTIF($C$20:C24,C24)) -> -0 | B24: 5 | F24: 9000 | G24: 0 | H24: =F24*G24 -> 0
A25: =CONCATENATE(C25,"-",COUNTIF($C$20:C25,C25)) -> -0 | B25: 6 | F25: 9000 | G25: 0 | H25: =F25*G25 -> 0
A26: =CONCATENATE(C26,"-",COUNTIF($C$20:C26,C26)) -> -0 | B26: 7 | F26: 9000 | G26: 0 | H26: =F26*G26 -> 0
A27: =CONCATENATE(C27,"-",COUNTIF($C$20:C27,C27)) -> -0 | B27: 8 | F27: 9000 | G27: 0 | H27: =F27*G27 -> 0
A28: =CONCATENATE(C28,"-",COUNTIF($C$20:C28,C28)) -> -0 | B28: 9 | F28: 9000 | G28: 0 | H28: =F28*G28 -> 0
A29: =CONCATENATE(C29,"-",COUNTIF($C$20:C29,C29)) -> -0 | B29: 10 | F29: 9000 | G29: 0 | H29: =F29*G29 -> 0
A30: =CONCATENATE(C30,"-",COUNTIF($C$20:C30,C30)) -> -0 | B30: 11 | F30: 9000 | G30: 0 | H30: =F30*G30 -> 0
A31: =CONCATENATE(C31,"-",COUNTIF($C$20:C31,C31)) -> -0 | B31: 12 | F31: 9000 | G31: 0 | H31: =F31*G31 -> 0
... A119: =CONCATENATE(C119,"-",COUNTIF($C$20:C119,C119)) -> -0 | B119: 100 | F119: 9000 | G119: 0 | H119: =F119*G119 -> 0
C120: 計 | D120: =COUNTA(D20:D119) -> 0 | E120: 計 | G120: =SUM(G20:G119) -> 16 | H120: =SUM(H20:H119) -> 144000 | I120: 計

Sheet 第３号様式（変更交付申請）
A1: 第３号様式（第６条関係）
A4: （宛先）流山市長
E6: 所在地 | F6: =施設基本情報入力!D8 -> 0
E7: 名称 | F7: =施設基本情報入力!D7 -> 0
E8: 事業所名 | F8: =施設基本情報入力!G8 -> 0
E9: 代表者職氏名 | F9: =施設基本情報入力!D9&" "&施設基本情報入力!D10
A12: 流山市訪問看護師オンコール対応体制整備事業補助金変更承認申請書
A14: =施設基本情報入力!D17 -> 0 | C14: ="付け流山市指令第 "&施設基本情報入力!D18&"号で決定のあった補助金の交付" -> 付け流山市指令第 号で決定のあった補助金の交付
A15: 申請の内容について、次のとおり変更したいので、申請します。
A16: 記
A18: 変更後の交付申請額 | D18: ='対象者リスト（変更）'!H120 -> 144000 | F18: 円
A19: （変更前交付決定額 | D19: =施設基本情報入力!D19 -> 0 | F19: 円）
A20: （差引増減額 | D20: =D18-D19 -> 144000 | F20: 円）
A23: 注 変更の内容を確認できる書類を添付すること。

Sheet ３号添付　変更申請額算出調書
A1: 流山市訪問看護師オンコール対応体制整備事業変更申請額算出調書
A4: 流山市訪問看護師オンコール対応体制整備事業について、補助対象対象看護師に周知をした上で、
A5: 提出していることを証明いたします。
G6: ='第３号様式（変更交付申請）'!F2 -> 0
E7: 法人名 | G7: =施設基本情報入力!D7 -> 0
E8: 代表者職氏名 | G8: =施設基本情報入力!D9&" "&施設基本情報入力!D10
E9: 担当者（連絡先） | G9: =施設基本情報入力!D11&"("&施設基本情報入力!D12&")" -> ()
A11: 法人全体
A12: 交付申請額 | C12: =F15 -> 0 | E12: 円
A13: 対象看護師数の計 （ａの合計） | F13: =D22+D33+D41+D51+D61+'３号添付 事業所追加分①'!D6+'３号添付 事業所追加分①'!D14+'３号添付 事業所追加分①'!D22+'３号添付 事業所追加分①'!D30+'３号添付 事業所追加分①'!D38+'３号添付 事業所追加分②'!D6+'３号添付 事業所追加分②'!D14+'３号添付 事業所追加分②'!D22+'３号添付 事業所追加分②'!D30 -> 0 | G13: 人
A14: 補助対象月数の計 （ｂの合計） | F14: =D23+D34+D42+D52+D62+'３号添付 事業所追加分①'!D7+'３号添付 事業所追加分①'!D15+'３号添付 事業所追加分①'!D23+'３号添付 事業所追加分①'!D31+'３号添付 事業所追加分①'!D39+'３号添付 事業所追加分①'!D47+'３号添付 事業所追加分②'!D7+'３号添付 事業所追加分②'!D15+'３号添付 事業所追加分②'!D23+'３号添付 事業所追加分②'!D31 -> 0 | G14: か月
A15: 補助金額（年計） （ｃの合計） | F15: =9000*F14 -> 0 | G15: 円
A19: ・主たる事業所名 | C19: =施設基本情報入力!G8 -> 0
A20: ・サービス種別 | C20: =施設基本情報入力!H8 -> 0
A21: 交付申請額
A22: 対象看護師数の計 （ａ） | D22: =COUNTIFS('対象者リスト（変更）'!$C$20:$C$119,施設基本情報入力!G8) -> 0 | E22: 人
A23: 補助対象月数の計 （ｂ） | D23: =SUMIFS('対象者リスト（変更）'!$G$20:$G$119,'対象者リスト（変更）'!$C$20:$C$119,施設基本情報入力!G8) -> 0 | E23: か月
A24: 補助金額（年計） （ｃ） （9,000円×（ｂ）） | D24: =9000*D23 -> 0 | E24: 円
A29: 以下、同法人の市内別事業所があれば記入してください。
A30: ・事業所名２ | C30: =施設基本情報入力!G9 -> 0
A31: ・サービス種別 | C31: =施設基本情報入力!H9 -> 0
A32: 交付申請額
A33: 対象看護師数の計 （ａ） | D33: =COUNTIFS('対象者リスト（変更）'!$C$20:$C$119,施設基本情報入力!G9) -> 0 | E33: 人
A34: 補助対象月数の計 （ｂ） | D34: =SUMIFS('対象者リスト（変更）'!$G$20:$G$119,'対象者リスト（変更）'!$C$20:$C$119,施設基本情報入力!G9) -> 0 | E34: か月
A35: 補助金額（年計） （ｃ） （9,000円×（ｂ）） | D35: =9000*D34 -> 0 | E35: 円
A38: ・事業所名３ | C38: =施設基本情報入力!G10 -> 0
A39: ・サービス種別 | C39: =施設基本情報入力!H10 -> 0
A40: 交付申請額
A41: 対象看護師数の計 （ａ） | D41: =COUNTIFS('対象者リスト（変更）'!$C$20:$C$119,施設基本情報入力!G10) -> 0 | E41: 人
A42: 補助対象月数の計 （ｂ） | D42: =SUMIFS('対象者リスト（変更）'!$G$20:$G$119,'対象者リスト（変更）'!$C$20:$C$119,施設基本情報入力!G10) -> 0 | E42: か月
A43: 補助金額（年計） （ｃ） （9,000円×（ｂ）） | D43: =9000*D42 -> 0 | E43: 円
A48: ・事業所名４ | C48: =施設基本情報入力!G11 -> 0
A49: ・サービス種別 | C49: =施設基本情報入力!H11 -> 0
A50: 交付申請額
A51: 対象看護師数の計 （ａ） | D51: =COUNTIFS('対象者リスト（変更）'!$C$20:$C$119,施設基本情報入力!G11) -> 0 | E51: 人
A52: 補助対象月数の計 （ｂ） | D52: =SUMIFS('対象者リスト（変更）'!$G$20:$G$119,'対象者リスト（変更）'!$C$20:$C$119,施設基本情報入力!G11) -> 0 | E52: か月
A53: 補助金額（年計） （ｃ） （9,000円×（ｂ）） | D53: =9000*D52 -> 0 | E53: 円
A58: ・事業所名５ | C58: =施設基本情報入力!G12 -> 0
A59: ・サービス種別 | C59: =施設基本情報入力!H12 -> 0
A60: 交付申請額
...

Sheet ３号添付　事業所追加分①
A3: ・事業所名６ | C3: =施設基本情報入力!G13 -> 0
A4: ・サービス種別 | C4: =施設基本情報入力!H13 -> 0
A5: 交付申請額
A6: 対象看護師数の計（ａ） | D6: =COUNTIFS('対象者リスト（変更）'!$C$20:$C$119,施設基本情報入力!G13) -> 0 | E6: 人
A7: 補助対象月数の計 （ｂ） | D7: =SUMIFS('対象者リスト（変更）'!$G$20:$G$119,'対象者リスト（変更）'!$C$20:$C$119,施設基本情報入力!G13) -> 0 | E7: か月
A8: 補助金額（年計） （ｃ） （9,000円×（ｂ）） | D8: =9000*D7 -> 0 | E8: 円
A11: ・事業所名７ | C11: =施設基本情報入力!G14 -> 0
A12: ・サービス種別 | C12: =施設基本情報入力!H14 -> 0
A13: 交付申請額
A14: 対象看護師数の計 （ａ） | D14: =COUNTIFS('対象者リスト（変更）'!$C$20:$C$119,施設基本情報入力!G14) -> 0 | E14: 人
A15: 補助対象月数の計 （ｂ） | D15: =SUMIFS('対象者リスト（変更）'!$G$20:$G$119,'対象者リスト（変更）'!$C$20:$C$119,施設基本情報入力!G14) -> 0 | E15: か月
A16: 補助金額（年計） （ｃ） （9,000円×（ｂ）） | D16: =9000*D15 -> 0 | E16: 円
A19: ・事業所名８ | C19: =施設基本情報入力!G15 -> 0
A20: ・サービス種別 | C20: =施設基本情報入力!H15 -> 0
A21: 交付申請額
A22: 対象看護師数の計 （ａ） | D22: =COUNTIFS('対象者リスト（変更）'!$C$20:$C$119,施設基本情報入力!G15) -> 0 | E22: 人
A23: 補助対象月数の計 （ｂ） | D23: =SUMIFS('対象者リスト（変更）'!$G$20:$G$119,'対象者リスト（変更）'!$C$20:$C$119,施設基本情報入力!G15) -> 0 | E23: か月
A24: 補助金額（年計） （ｃ） （9,000円×（ｂ）） | D24: =9000*D23 -> 0 | E24: 円
A27: ・事業所名９ | C27: =施設基本情報入力!G16 -> 0
A28: ・サービス種別 | C28: =施設基本情報入力!H16 -> 0
A29: 交付申請額
A30: 対象看護師数の計 （ａ） | D30: =COUNTIFS('対象者リスト（変更）'!$C$20:$C$119,施設基本情報入力!G16) -> 0 | E30: 人
A31: 補助対象月数の計 （ｂ） | D31: =SUMIFS('対象者リスト（変更）'!$G$20:$G$119,'対象者リスト（変更）'!$C$20:$C$119,施設基本情報入力!G16) -> 0 | E31: か月
A32: 補助金額（年計） （ｃ） （9,000円×（ｂ）） | D32: =9000*D31 -> 0 | E32: 円
A35: ・事業所名１０ | C35: =施設基本情報入力!G17 -> 0
A36: ・サービス種別 | C36: =施設基本情報入力!H17 -> 0
A37: 交付申請額
A38: 対象看護師数の計 （ａ） | D38: =COUNTIFS('対象者リスト（変更）'!$C$20:$C$119,施設基本情報入力!G17) -> 0 | E38: 人
A39: 補助対象月数の計 （ｂ） | D39: =SUMIFS('対象者リスト（変更）'!$G$20:$G$119,'対象者リスト（変更）'!$C$20:$C$119,施設基本情報入力!G17) -> 0 | E39: か月
A40: 補助金額（年計） （ｃ） （9,000円×（ｂ）） | D40: =9000*D39 -> 0 | E40: 円
A43: ・事業所名１１ | C43: =施設基本情報入力!G18 -> 0
A44: ・サービス種別 | C44: =施設基本情報入力!H18 -> 0
A45: 交付申請額
A46: 対象看護師数の計 （ａ） | D46: =COUNTIFS('対象者リスト（変更）'!$C$20:$C$119,施設基本情報入力!G18) -> 0 | E46: 人
A47: 補助対象月数の計 （ｂ） | D47: =SUMIFS('対象者リスト（変更）'!$G$20:$G$119,'対象者リスト（変更）'!$C$20:$C$119,施設基本情報入力!G18) -> 0 | E47: か月
A48: 補助金額（年計） （ｃ） （9,000円×（ｂ）） | D48: =9000*D47 -> 0 | E48: 円

Sheet ３号添付　事業所追加分②
A3: ・事業所名１２ | C3: =施設基本情報入力!G19 -> 0
A4: ・サービス種別 | C4: =施設基本情報入力!H19 -> 0
A5: 交付申請額
A6: 対象看護師数の計 （ａ） | D6: =COUNTIFS('対象者リスト（変更）'!$C$20:$C$119,施設基本情報入力!G19) -> 0 | E6: 人
A7: 補助対象月数の計 （ｂ） | D7: =SUMIFS('対象者リスト（変更）'!$G$20:$G$119,'対象者リスト（変更）'!$C$20:$C$119,施設基本情報入力!G19) -> 0 | E7: か月
A8: 補助金額（年計） （ｃ） （9,000円×（ｂ）） | D8: =9000*D7 -> 0 | E8: 円
A11: ・事業所名１３ | C11: =施設基本情報入力!G20 -> 0
A12: ・サービス種別 | C12: =施設基本情報入力!H20 -> 0
A13: 交付申請額
A14: 対象看護師数の計 （ａ） | D14: =COUNTIFS('対象者リスト（変更）'!$C$20:$C$119,施設基本情報入力!G20) -> 0 | E14: 人
A15: 補助対象月数の計 （ｂ） | D15: =SUMIFS('対象者リスト（変更）'!$G$20:$G$119,'対象者リスト（変更）'!$C$20:$C$119,施設基本情報入力!G20) -> 0 | E15: か月
A16: 補助金額（年計） （ｃ） （9,000円×（ｂ）） | D16: =9000*D15 -> 0 | E16: 円
A19: ・事業所名１４ | C19: =施設基本情報入力!G21 -> 0
A20: ・サービス種別 | C20: =施設基本情報入力!H21 -> 0
A21: 交付申請額
A22: 対象看護師数の計 （ａ） | D22: =COUNTIFS('対象者リスト（変更）'!$C$20:$C$119,施設基本情報入力!G21) -> 0 | E22: 人
A23: 補助対象月数の計 （ｂ） | D23: =SUMIFS('対象者リスト（変更）'!$G$20:$G$119,'対象者リスト（変更）'!$C$20:$C$119,施設基本情報入力!G21) -> 0 | E23: か月
A24: 補助金額（年計） （ｃ） （9,000円×（ｂ）） | D24: =9000*D23 -> 0 | E24: 円
A27: ・事業所名１５ | C27: =施設基本情報入力!G22 -> 0
A28: ・サービス種別 | C28: =施設基本情報入力!H22 -> 0
A29: 交付申請額
A30: 対象看護師数の計（ａ） | D30: =COUNTIFS('対象者リスト（変更）'!$C$20:$C$119,施設基本情報入力!G22) -> 0 | E30: 人
A31: 補助対象月数の計 （ｂ） | D31: =SUMIFS('対象者リスト（変更）'!$G$20:$G$119,'対象者リスト（変更）'!$C$20:$C$119,施設基本情報入力!G22) -> 0 | E31: か月
A32: 補助金額（年計） （ｃ） （9,000円×（ｂ）） | D32: =9000*D31 -> 0 | E32: 円

Sheet 原本証明書（変更）
A3: ='第３号様式（変更交付申請）'!F2 -> 0 | D3: 付けで提出した書類について作成した
A4: 書類の内容に虚偽がないことを保証します。
A5: また、写しの提出がある場合、写しはすべて原本と相違ない
A6: ことを証明します。
A10: =A3 -> 0
A12: 所在地 | C12: =施設基本情報入力!D8 -> 0
A13: 法人名 | C13: =施設基本情報入力!D7 -> 0
A14: 代表者職氏名 | C14: =施設基本情報入力!D9&" "&施設基本情報入力!D10&" 印" -> 印

Sheet 第５号様式
A1: 第５号様式（第６条関係）
A4: （宛先）流山市長
E6: 所在地 | F6: =施設基本情報入力!D8 -> 0
E7: 名称 | F7: =施設基本情報入力!D7 -> 0
E8: 事業所名 | F8: =施設基本情報入力!G8 -> 0
E9: 代表者職氏名 | F9: =施設基本情報入力!D9&" "&施設基本情報入力!D10
A11: 流山市訪問看護師オンコール対応体制整備事業補助金実績報告書
A13: =施設基本情報入力!D17 -> 0 | C13: 付け流山市指令第 | E13: =施設基本情報入力!D18 -> 0 | F13: 号で決定のあった訪問看護師
A14: オンコール対応体制整備事業の実績について、流山市補助金等交付規則第１２条の
A15: 規定により下記のとおり報告します。
A16: 記
A17: １ 対象訪問看護師を配置している事業所の名称
A19: =" "&施設基本情報入力!G8
A20: =" "&施設基本情報入力!G9
A21: =" "&施設基本情報入力!G10
A22: =" "&施設基本情報入力!G11
A23: =" "&施設基本情報入力!G12
A24: =" "&施設基本情報入力!G13
A25: =" "&施設基本情報入力!G14
A26: =" "&施設基本情報入力!G15
A27: =" "&施設基本情報入力!G16
A28: =" "&施設基本情報入力!G17
A29: =" "&施設基本情報入力!G18
A30: =" "&施設基本情報入力!G19
... A33: =" "&施設基本情報入力!G22
A35: ２ 補助事業実績額
D36: 円
A38: ３ 添付書類
B39: 補助対象看護師がオンコール対応を行ったことが確認できる書類（対象月全ての分）
B40: 補助対象看護師にオンコール対応に係る手当等を支給したことが分かる書類
B41: その他市長が必要と認める書類
A43: ※添付書類に○を付けること。

Sheet 5号添付　支給額一覧表（1~30）
B7: 流山市訪問看護師オンコール対応体制整備事業補助金対象者支給額一覧表
J9: 事業所名
J10: サービス 種別 | L10: =IFERROR(VLOOKUP($L$9,施設基本情報入力!$G$8:$H$22,2,0),"")
P12: (円)
C13: 職員氏名 | D13: ４月 | E13: ５月 | F13: ６月 | G13: ７月 | H13: ８月 | I13: ９月 | J13: １０月 | K13: １１月 | L13: １２月 | M13: １月 | N13: ２月 | O13: ３月 | P13: 計
A14: =IF($L$9="","",CONCATENATE($L$9,"-",B14)) | B14: 1 | C14: =IFERROR(VLOOKUP($A14,'対象者リスト（変更）'!$A$20:$D$119,4,0),"") | P14: =IFERROR(VLOOKUP($A14,'対象者リスト（変更）'!$A$20:$H$119,8,0),"")
A15: =IF($L$9="","",CONCATENATE($L$9,"-",B15)) | B15: 2 | C15: =IFERROR(VLOOKUP($A15,'対象者リスト（変更）'!$A$20:$D$119,4,0),"") | P15: =IFERROR(VLOOKUP($A15,'対象者リスト（変更）'!$A$20:$H$119,8,0),"")
A16: =IF($L$9="","",CONCATENATE($L$9,"-",B16)) | B16: 3 | C16: =IFERROR(VLOOKUP($A16,'対象者リスト（変更）'!$A$20:$D$119,4,0),"") | P16: =IFERROR(VLOOKUP($A16,'対象者リスト（変更）'!$A$20:$H$119,8,0),"")
A17: =IF($L$9="","",CONCATENATE($L$9,"-",B17)) | B17: 4 | C17: =IFERROR(VLOOKUP($A17,'対象者リスト（変更）'!$A$20:$D$119,4,0),"") | P17: =IFERROR(VLOOKUP($A17,'対象者リスト（変更）'!$A$20:$H$119,8,0),"")
A18: =IF($L$9="","",CONCATENATE($L$9,"-",B18)) | B18: 5 | C18: =IFERROR(VLOOKUP($A18,'対象者リスト（変更）'!$A$20:$D$119,4,0),"") | P18: =IFERROR(VLOOKUP($A18,'対象者リスト（変更）'!$A$20:$H$119,8,0),"")
A19: =IF($L$9="","",CONCATENATE($L$9,"-",B19)) | B19: 6 | C19: =IFERROR(VLOOKUP($A19,'対象者リスト（変更）'!$A$20:$D$119,4,0),"") | P19: =IFERROR(VLOOKUP($A19,'対象者リスト（変更）'!$A$20:$H$119,8,0),"")
A20: =IF($L$9="","",CONCATENATE($L$9,"-",B20)) | B20: 7 | C20: =IFERROR(VLOOKUP($A20,'対象者リスト（変更）'!$A$20:$D$119,4,0),"") | P20: =IFERROR(VLOOKUP($A20,'対象者リスト（変更）'!$A$20:$H$119,8,0),"")
A21: =IF($L$9="","",CONCATENATE($L$9,"-",B21)) | B21: 8 | C21: =IFERROR(VLOOKUP($A21,'対象者リスト（変更）'!$A$20:$D$119,4,0),"") | P21: =IFERROR(VLOOKUP($A21,'対象者リスト（変更）'!$A$20:$H$119,8,0),"")
A22: =IF($L$9="","",CONCATENATE($L$9,"-",B22)) | B22: 9 | C22: =IFERROR(VLOOKUP($A22,'対象者リスト（変更）'!$A$20:$D$119,4,0),"") | P22: =IFERROR(VLOOKUP($A22,'対象者リスト（変更）'!$A$20:$H$119,8,0),"")
A23: =IF($L$9="","",CONCATENATE($L$9,"-",B23)) | B23: 10 | C23: =IFERROR(VLOOKUP($A23,'対象者リスト（変更）'!$A$20:$D$119,4,0),"") | P23: =IFERROR(VLOOKUP($A23,'対象者リスト（変更）'!$A$20:$H$119,8,0),"")
A24: =IF($L$9="","",CONCATENATE($L$9,"-",B24)) | B24: 11 | C24: =IFERROR(VLOOKUP($A24,'対象者リスト（変更）'!$A$20:$D$119,4,0),"") | P24: =IFERROR(VLOOKUP($A24,'対象者リスト（変更）'!$A$20:$H$119,8,0),"")
A25: =IF($L$9="","",CONCATENATE($L$9,"-",B25)) | B25: 12 | C25: =IFERROR(VLOOKUP($A25,'対象者リスト（変更）'!$A$20:$D$119,4,0),"") | P25: =IFERROR(VLOOKUP($A25,'対象者リスト（変更）'!$A$20:$H$119,8,0),"")
... A43: =IF($L$9="","",CONCATENATE($L$9,"-",B43)) | B43: 30 | C43: =IFERROR(VLOOKUP($A43,'対象者リスト（変更）'!$A$20:$D$119,4,0),"") | P43: =IFERROR(VLOOKUP($A43,'対象者リスト（変更）'!$A$20:$H$119,8,0),"")
M44: 支給合計 | O44: =SUM(P14:P43) -> 0
D46: 受領印
D47: 1 | E47: 2 | F47: 3 | G47: 4 | H47: 5 | I47: 6 | J47: 7 | K47: 8 | L47: 9 | M47: 10
D49: 11 | E49: 12 | F49: 13 | G49: 14 | H49: 15 | I49: 16 | J49: 17 | K49: 18 | L49: 19 | M49: 20
D51: 21 | E51: 22 | F51: 23 | G51: 24 | H51: 25 | I51: 26 | J51: 27 | K51: 28 | L51: 29 | M51: 30
C55: 上記について相違ないことを証明する。
C56: なお、書類に齟齬があった場合、速やかに対処することを確約します。
C58: =第５号様式!G2 -> 0 | K58: =C58 -> 0
C59: 事業所名 | D59: =L9 -> 0 | J59: 法人名 | M59: =施設基本情報入力!D7 -> 0
C60: 担当者名 | J60: 代表者職氏名 | M60: =施設基本情報入力!D9&" "&施設基本情報入力!D10
J61: 担当者 | M61: =施設基本情報入力!D11 -> 0
J62: 連絡先 | M62: =施設基本情報入力!D12 -> 0

Sheet 5号添付　支給額一覧表 (31~60)
B7: 流山市訪問看護師オンコール対応体制整備事業補助金対象者支給額一覧表
J9: 事業所名
J10: サービス 種別 | L10: =IFERROR(VLOOKUP($L$9,施設基本情報入力!$G$8:$H$22,2,0),"")
P12: (円)
C13: 職員氏名 | D13: ４月 | E13: ５月 | F13: ６月 | G13: ７月 | H13: ８月 | I13: ９月 | J13: １０月 | K13: １１月 | L13: １２月 | M13: １月 | N13: ２月 | O13: ３月 | P13: 計
A14: =IF($L$9="","",CONCATENATE($L$9,"-",B14)) | B14: 31 | C14: =IFERROR(VLOOKUP($A14,'対象者リスト（変更）'!$A$20:$D$119,4,0),"") | P14: =IFERROR(VLOOKUP($A14,'対象者リスト（変更）'!$A$20:$H$119,8,0),"")
A15: =IF($L$9="","",CONCATENATE($L$9,"-",B15)) | B15: 32 | C15: =IFERROR(VLOOKUP($A15,'対象者リスト（変更）'!$A$20:$D$119,4,0),"") | P15: =IFERROR(VLOOKUP($A15,'対象者リスト（変更）'!$A$20:$H$119,8,0),"")
A16: =IF($L$9="","",CONCATENATE($L$9,"-",B16)) | B16: 33 | C16: =IFERROR(VLOOKUP($A16,'対象者リスト（変更）'!$A$20:$D$119,4,0),"") | P16: =IFERROR(VLOOKUP($A16,'対象者リスト（変更）'!$A$20:$H$119,8,0),"")
A17: =IF($L$9="","",CONCATENATE($L$9,"-",B17)) | B17: 34 | C17: =IFERROR(VLOOKUP($A17,'対象者リスト（変更）'!$A$20:$D$119,4,0),"") | P17: =IFERROR(VLOOKUP($A17,'対象者リスト（変更）'!$A$20:$H$119,8,0),"")
A18: =IF($L$9="","",CONCATENATE($L$9,"-",B18)) | B18: 35 | C18: =IFERROR(VLOOKUP($A18,'対象者リスト（変更）'!$A$20:$D$119,4,0),"") | P18: =IFERROR(VLOOKUP($A18,'対象者リスト（変更）'!$A$20:$H$119,8,0),"")
A19: =IF($L$9="","",CONCATENATE($L$9,"-",B19)) | B19: 36 | C19: =IFERROR(VLOOKUP($A19,'対象者リスト（変更）'!$A$20:$D$119,4,0),"") | P19: =IFERROR(VLOOKUP($A19,'対象者リスト（変更）'!$A$20:$H$119,8,0),"")
A20: =IF($L$9="","",CONCATENATE($L$9,"-",B20)) | B20: 37 | C20: =IFERROR(VLOOKUP($A20,'対象者リスト（変更）'!$A$20:$D$119,4,0),"") | P20: =IFERROR(VLOOKUP($A20,'対象者リスト（変更）'!$A$20:$H$119,8,0),"")
A21: =IF($L$9="","",CONCATENATE($L$9,"-",B21)) | B21: 38 | C21: =IFERROR(VLOOKUP($A21,'対象者リスト（変更）'!$A$20:$D$119,4,0),"") | P21: =IFERROR(VLOOKUP($A21,'対象者リスト（変更）'!$A$20:$H$119,8,0),"")
A22: =IF($L$9="","",CONCATENATE($L$9,"-",B22)) | B22: 39 | C22: =IFERROR(VLOOKUP($A22,'対象者リスト（変更）'!$A$20:$D$119,4,0),"") | P22: =IFERROR(VLOOKUP($A22,'対象者リスト（変更）'!$A$20:$H$119,8,0),"")
A23: =IF($L$9="","",CONCATENATE($L$9,"-",B23)) | B23: 40 | C23: =IFERROR(VLOOKUP($A23,'対象者リスト（変更）'!$A$20:$D$119,4,0),"") | P23: =IFERROR(VLOOKUP($A23,'対象者リスト（変更）'!$A$20:$H$119,8,0),"")
A24: =IF($L$9="","",CONCATENATE($L$9,"-",B24)) | B24: 41 | C24: =IFERROR(VLOOKUP($A24,'対象者リスト（変更）'!$A$20:$D$119,4,0),"") | P24: =IFERROR(VLOOKUP($A24,'対象者リスト（変更）'!$A$20:$H$119,8,0),"")
A25: =IF($L$9="","",CONCATENATE($L$9,"-",B25)) | B25: 42 | C25: =IFERROR(VLOOKUP($A25,'対象者リスト（変更）'!$A$20:$D$119,4,0),"") | P25: =IFERROR(VLOOKUP($A25,'対象者リスト（変更）'!$A$20:$H$119,8,0),"")
... A43: =IF($L$9="","",CONCATENATE($L$9,"-",B43)) | B43: 60 | C43: =IFERROR(VLOOKUP($A43,'対象者リスト（変更）'!$A$20:$D$119,4,0),"") | P43: =IFERROR(VLOOKUP($A43,'対象者リスト（変更）'!$A$20:$H$119,8,0),"")
M44: 支給合計 | O44: =SUM(P14:P43) -> 0
D46: 受領印
D47: 1 | E47: 2 | F47: 3 | G47: 4 | H47: 5 | I47: 6 | J47: 7 | K47: 8 | L47: 9 | M47: 10
D49: 11 | E49: 12 | F49: 13 | G49: 14 | H49: 15 | I49: 16 | J49: 17 | K49: 18 | L49: 19 | M49: 20
D51: 21 | E51: 22 | F51: 23 | G51: 24 | H51: 25 | I51: 26 | J51: 27 | K51: 28 | L51: 29 | M51: 30
C55: 上記について相違ないことを証明する。
C56: なお、書類に齟齬があった場合、速やかに対処することを確約します。
C58: =第５号様式!G2 -> 0 | K58: =C58 -> 0
C59: 事業所名 | D59: =L9 -> 0 | J59: 法人名 | M59: =施設基本情報入力!D7 -> 0
C60: 担当者名 | J60: 代表者職氏名 | M60: =施設基本情報入力!D9&" "&施設基本情報入力!D10
J61: 担当者 | M61: =施設基本情報入力!D11 -> 0
J62: 連絡先 | M62: =施設基本情報入力!D12 -> 0

Sheet 原本証明書 （実績報告）
A3: =第５号様式!G2 -> 0 | D3: 付けで提出した書類について、作成した
A4: 書類の内容に虚偽がないことを保証します。
A5: また、写しの提出がある場合、写しはすべて原本と相違ない
A6: ことを証明します。
A10: =A3 -> 0
A12: 所在地 | C12: =施設基本情報入力!D8 -> 0
A13: 法人名 | C13: =施設基本情報入力!D7 -> 0
A14: 代表者職氏名 | C14: =施設基本情報入力!D9&" "&施設基本情報入力!D10&" 印" -> 印

Sheet 第７号様式
A1: 第７号様式（第６条関係）
A4: （宛先）流山市長
E6: 所在地 | F6: =施設基本情報入力!D8 -> 0
E7: 名称 | F7: =施設基本情報入力!D7 -> 0
E8: 事業所名 | F8: =施設基本情報入力!G8 -> 0
E9: 代表者職氏名 | F9: =施設基本情報入力!D9&" "&施設基本情報入力!D10
A11: 流山市訪問看護師オンコール対応体制整備事業補助金交付請求書
A13: 令和 年 月 日 | C13: 付け流山市達第 | G13: 号で確定のあった補助金
A14: について、流山市補助金等交付規則第１５条の規定により、次のとおり請求します。
B16: 記
A17: １ 補助金交付請求額 | G17: 円
A20: ２ 振込口座
B22: 金融機関 | E22: 銀行 信用金庫 農協 信用組合 | H22: 店 出張所
B24: 預金種別 | C24: 普通 ・ 当座
B25: 口座番号
B26: フリガナ
B27: 口座名義人

Sheet 委任状（精算）
A6: 委任状
A8: 流山市長 様
B10: 受任者（口座名義人）
B11: 住 所
B12: 名 称
B13: 代表者職氏名
B15: 上記の者に流山市訪問看護師オンコール対応体制整備事業補助金の
B16: 受領に関する権限を委任いたします。
E18: =第７号様式!G2 -> 0
B19: 委任者（申請者）
B20: 住 所 | C20: =施設基本情報入力!D8 -> 0
B21: 名 称 | C21: =施設基本情報入力!D7 -> 0
B22: 代表者職氏名 | C22: =施設基本情報入力!D9&" "&施設基本情報入力!D10&" 印" -> 印
F25: 以 上
